BEGIN:VCALENDAR
VERSION:2.0
PRODID:-//Apple Inc.//Mac OS X 10.11.4//EN
CALSCALE:GREGORIAN
BEGIN:VEVENT
UID:892d5b85569aa4b28b542e37a6d0bd0d
DTEND;TZID=America/New_York:20251206T004000
DTSTART;TZID=America/New_York:20251205T224000
DTSTAMP;TZID=America/New_York:20251205T224000
LOCATION: Fairfax Ice Arena
SUMMARY;LANGUAGE=en-US: vs 
END:VEVENT
BEGIN:VEVENT
UID:12cd108fd95174c4e029358ee313e1b0
DTEND;TZID=America/New_York:20251214T090000
DTSTART;TZID=America/New_York:20251214T070000
DTSTAMP;TZID=America/New_York:20251214T070000
LOCATION: Fairfax Ice Arena
SUMMARY;LANGUAGE=en-US: vs 
END:VEVENT
BEGIN:VEVENT
UID:fd3368c333e42efd38e59f09abd26287
DTEND;TZID=America/New_York:20251230T004000
DTSTART;TZID=America/New_York:20251229T224000
DTSTAMP;TZID=America/New_York:20251229T224000
LOCATION: Fairfax Ice Arena
SUMMARY;LANGUAGE=en-US: vs 
END:VEVENT
BEGIN:VEVENT
UID:79061137cef6c82acad365bc7e27ecf5
DTEND;TZID=America/New_York:20260105T224000
DTSTART;TZID=America/New_York:20260105T204000
DTSTAMP;TZID=America/New_York:20260105T204000
LOCATION: Fairfax Ice Arena
SUMMARY;LANGUAGE=en-US: vs 
END:VEVENT
BEGIN:VEVENT
UID:30dcdbcb5d7bf41cb300bdb725a3c050
DTEND;TZID=America/New_York:20260113T012000
DTSTART;TZID=America/New_York:20260112T232000
DTSTAMP;TZID=America/New_York:20260112T232000
LOCATION: Fairfax Ice Arena
SUMMARY;LANGUAGE=en-US: vs 
END:VEVENT
BEGIN:VEVENT
UID:951f0f72c1bfbac0ea0661cc4e51efe6
DTEND;TZID=America/New_York:20260125T004000
DTSTART;TZID=America/New_York:20260124T224000
DTSTAMP;TZID=America/New_York:20260124T224000
LOCATION: Fairfax Ice Arena
SUMMARY;LANGUAGE=en-US: vs 
END:VEVENT
BEGIN:VEVENT
UID:dac2d2392a43858b4c4788b34d486440
DTEND;TZID=America/New_York:20260203T012000
DTSTART;TZID=America/New_York:20260202T232000
DTSTAMP;TZID=America/New_York:20260202T232000
LOCATION: Fairfax Ice Arena
SUMMARY;LANGUAGE=en-US: vs 
END:VEVENT
BEGIN:VEVENT
UID:5ce643f9b78543de3252040c126c95cb
DTEND;TZID=America/New_York:20260215T102000
DTSTART;TZID=America/New_York:20260215T082000
DTSTAMP;TZID=America/New_York:20260215T082000
LOCATION: Fairfax Ice Arena
SUMMARY;LANGUAGE=en-US: vs 
END:VEVENT
BEGIN:VEVENT
UID:d26e4a5ef0c2d6d3619e74f68a97d31b
DTEND;TZID=America/New_York:20260222T015500
DTSTART;TZID=America/New_York:20260221T235500
DTSTAMP;TZID=America/New_York:20260221T235500
LOCATION: Fairfax Ice Arena
SUMMARY;LANGUAGE=en-US: vs 
END:VEVENT
BEGIN:VEVENT
UID:aeaf5b58614622f23ff20088a65107ab
DTEND;TZID=America/New_York:20260302T224000
DTSTART;TZID=America/New_York:20260302T204000
DTSTAMP;TZID=America/New_York:20260302T204000
LOCATION: Fairfax Ice Arena
SUMMARY;LANGUAGE=en-US: vs 
END:VEVENT
END:VCALENDAR
