BEGIN:VCALENDAR
VERSION:2.0
PRODID:-//Apple Inc.//Mac OS X 10.11.4//EN
CALSCALE:GREGORIAN
BEGIN:VEVENT
UID:c52bf3fcabdffa3f5734e3c4435bfa44
DTEND;TZID=America/New_York:20251206T015500
DTSTART;TZID=America/New_York:20251205T235500
DTSTAMP;TZID=America/New_York:20251205T235500
LOCATION: Fairfax Ice Arena
SUMMARY;LANGUAGE=en-US: vs 
END:VEVENT
BEGIN:VEVENT
UID:2d792aa9895fe76e1d2fdb9bee2dafa2
DTEND;TZID=America/New_York:20251216T000000
DTSTART;TZID=America/New_York:20251215T220000
DTSTAMP;TZID=America/New_York:20251215T220000
LOCATION: Fairfax Ice Arena
SUMMARY;LANGUAGE=en-US: vs 
END:VEVENT
BEGIN:VEVENT
UID:fd3368c333e42efd38e59f09abd26287
DTEND;TZID=America/New_York:20251230T004000
DTSTART;TZID=America/New_York:20251229T224000
DTSTAMP;TZID=America/New_York:20251229T224000
LOCATION: Fairfax Ice Arena
SUMMARY;LANGUAGE=en-US: vs 
END:VEVENT
BEGIN:VEVENT
UID:7505caead4061e0b2c3621a12c72c661
DTEND;TZID=America/New_York:20260104T004000
DTSTART;TZID=America/New_York:20260103T224000
DTSTAMP;TZID=America/New_York:20260103T224000
LOCATION: Fairfax Ice Arena
SUMMARY;LANGUAGE=en-US: vs 
END:VEVENT
BEGIN:VEVENT
UID:a36ca44fb2fb4e26c05677fae1bbb972
DTEND;TZID=America/New_York:20260120T012000
DTSTART;TZID=America/New_York:20260119T232000
DTSTAMP;TZID=America/New_York:20260119T232000
LOCATION: Fairfax Ice Arena
SUMMARY;LANGUAGE=en-US: vs 
END:VEVENT
BEGIN:VEVENT
UID:e72d007af022e45061386d499a0cf080
DTEND;TZID=America/New_York:20260202T224000
DTSTART;TZID=America/New_York:20260202T204000
DTSTAMP;TZID=America/New_York:20260202T204000
LOCATION: Fairfax Ice Arena
SUMMARY;LANGUAGE=en-US: vs 
END:VEVENT
BEGIN:VEVENT
UID:5ce643f9b78543de3252040c126c95cb
DTEND;TZID=America/New_York:20260215T102000
DTSTART;TZID=America/New_York:20260215T082000
DTSTAMP;TZID=America/New_York:20260215T082000
LOCATION: Fairfax Ice Arena
SUMMARY;LANGUAGE=en-US: vs 
END:VEVENT
BEGIN:VEVENT
UID:0ecc05c5da65ebfcd55fc31cfcf7c4a2
DTEND;TZID=America/New_York:20260223T003000
DTSTART;TZID=America/New_York:20260222T223000
DTSTAMP;TZID=America/New_York:20260222T223000
LOCATION: Fairfax Ice Arena
SUMMARY;LANGUAGE=en-US: vs 
END:VEVENT
BEGIN:VEVENT
UID:5d83872b5e98d557d93b981452726428
DTEND;TZID=America/New_York:20260302T212000
DTSTART;TZID=America/New_York:20260302T192000
DTSTAMP;TZID=America/New_York:20260302T192000
LOCATION: Fairfax Ice Arena
SUMMARY;LANGUAGE=en-US: vs 
END:VEVENT
BEGIN:VEVENT
UID:12f4a5f36cd7d3a122d542b73d2ed06d
DTEND;TZID=America/New_York:20260308T090000
DTSTART;TZID=America/New_York:20260308T070000
DTSTAMP;TZID=America/New_York:20260308T070000
LOCATION: Fairfax Ice Arena
SUMMARY;LANGUAGE=en-US: vs 
END:VEVENT
BEGIN:VEVENT
UID:5a361ff16330b136c4944c126f9cce06
DTEND;TZID=America/New_York:20260314T015500
DTSTART;TZID=America/New_York:20260313T235500
DTSTAMP;TZID=America/New_York:20260313T235500
LOCATION: Fairfax Ice Arena
SUMMARY;LANGUAGE=en-US: vs 
END:VEVENT
BEGIN:VEVENT
UID:1341c3259af7aeff1fe1d0cb26e7e02c
DTEND;TZID=America/New_York:20260329T004000
DTSTART;TZID=America/New_York:20260328T224000
DTSTAMP;TZID=America/New_York:20260328T224000
LOCATION: Fairfax Ice Arena
SUMMARY;LANGUAGE=en-US: vs 
END:VEVENT
BEGIN:VEVENT
UID:ed75e3e332dbe37d1181e745c9e76e53
DTEND;TZID=America/New_York:20260405T234000
DTSTART;TZID=America/New_York:20260405T214000
DTSTAMP;TZID=America/New_York:20260405T214000
LOCATION: Fairfax Ice Arena
SUMMARY;LANGUAGE=en-US: vs 
END:VEVENT
BEGIN:VEVENT
UID:8a02788f05841d0a1442258ad2aabd54
DTEND;TZID=America/New_York:20260413T224000
DTSTART;TZID=America/New_York:20260413T204000
DTSTAMP;TZID=America/New_York:20260413T204000
LOCATION: Fairfax Ice Arena
SUMMARY;LANGUAGE=en-US: vs 
END:VEVENT
BEGIN:VEVENT
UID:ed2ff948a6dc7cbc2289ec77e7ecf4ee
DTEND;TZID=America/New_York:20260418T013000
DTSTART;TZID=America/New_York:20260417T233000
DTSTAMP;TZID=America/New_York:20260417T233000
LOCATION: Fairfax Ice Arena
SUMMARY;LANGUAGE=en-US: vs 
END:VEVENT
BEGIN:VEVENT
UID:55a8655ac30e9bf2491770dbd290e503
DTEND;TZID=America/New_York:20260426T232000
DTSTART;TZID=America/New_York:20260426T212000
DTSTAMP;TZID=America/New_York:20260426T212000
LOCATION: Fairfax Ice Arena
SUMMARY;LANGUAGE=en-US: vs 
END:VEVENT
BEGIN:VEVENT
UID:b12c45284109fe30913818a666869e0c
DTEND;TZID=America/New_York:20260503T195000
DTSTART;TZID=America/New_York:20260503T175000
DTSTAMP;TZID=America/New_York:20260503T175000
LOCATION: Fairfax Ice Arena
SUMMARY;LANGUAGE=en-US: vs 
END:VEVENT
BEGIN:VEVENT
UID:48cef9f51225af09aef656b9aef8360d
DTEND;TZID=America/New_York:20260510T001000
DTSTART;TZID=America/New_York:20260509T221000
DTSTAMP;TZID=America/New_York:20260509T221000
LOCATION: Fairfax Ice Arena
SUMMARY;LANGUAGE=en-US: vs 
END:VEVENT
BEGIN:VEVENT
UID:6fa24f513338925de3e57ac30e97ea29
DTEND;TZID=America/New_York:20260516T193000
DTSTART;TZID=America/New_York:20260516T173000
DTSTAMP;TZID=America/New_York:20260516T173000
LOCATION: Fairfax Ice Arena
SUMMARY;LANGUAGE=en-US: vs 
END:VEVENT
BEGIN:VEVENT
UID:7fc0b44739b6a36521a386f483746890
DTEND;TZID=America/New_York:20260524T114000
DTSTART;TZID=America/New_York:20260524T094000
DTSTAMP;TZID=America/New_York:20260524T094000
LOCATION: Fairfax Ice Arena
SUMMARY;LANGUAGE=en-US: vs 
END:VEVENT
END:VCALENDAR
