BEGIN:VCALENDAR
VERSION:2.0
PRODID:-//Apple Inc.//Mac OS X 10.11.4//EN
CALSCALE:GREGORIAN
BEGIN:VEVENT
UID:fed10fec5ad718ab0451818ef9f078e5
DTEND;TZID=America/New_York:20251207T204500
DTSTART;TZID=America/New_York:20251207T184500
DTSTAMP;TZID=America/New_York:20251207T184500
LOCATION: Fairfax Ice Arena
SUMMARY;LANGUAGE=en-US: vs 
END:VEVENT
BEGIN:VEVENT
UID:2d792aa9895fe76e1d2fdb9bee2dafa2
DTEND;TZID=America/New_York:20251216T000000
DTSTART;TZID=America/New_York:20251215T220000
DTSTAMP;TZID=America/New_York:20251215T220000
LOCATION: Fairfax Ice Arena
SUMMARY;LANGUAGE=en-US: vs 
END:VEVENT
BEGIN:VEVENT
UID:e1f47cff2f99834f10895ca9ff8dd637
DTEND;TZID=America/New_York:20251229T004000
DTSTART;TZID=America/New_York:20251228T224000
DTSTAMP;TZID=America/New_York:20251228T224000
LOCATION: Fairfax Ice Arena
SUMMARY;LANGUAGE=en-US: vs 
END:VEVENT
BEGIN:VEVENT
UID:a7729d07dd120b4bcf6ba94651335133
DTEND;TZID=America/New_York:20260105T212000
DTSTART;TZID=America/New_York:20260105T192000
DTSTAMP;TZID=America/New_York:20260105T192000
LOCATION: Fairfax Ice Arena
SUMMARY;LANGUAGE=en-US: vs 
END:VEVENT
BEGIN:VEVENT
UID:30dcdbcb5d7bf41cb300bdb725a3c050
DTEND;TZID=America/New_York:20260113T012000
DTSTART;TZID=America/New_York:20260112T232000
DTSTAMP;TZID=America/New_York:20260112T232000
LOCATION: Fairfax Ice Arena
SUMMARY;LANGUAGE=en-US: vs 
END:VEVENT
BEGIN:VEVENT
UID:e72d007af022e45061386d499a0cf080
DTEND;TZID=America/New_York:20260202T224000
DTSTART;TZID=America/New_York:20260202T204000
DTSTAMP;TZID=America/New_York:20260202T204000
LOCATION: Fairfax Ice Arena
SUMMARY;LANGUAGE=en-US: vs 
END:VEVENT
BEGIN:VEVENT
UID:e9dde14704611efe9c12d12e99702a98
DTEND;TZID=America/New_York:20260215T090000
DTSTART;TZID=America/New_York:20260215T070000
DTSTAMP;TZID=America/New_York:20260215T070000
LOCATION: Fairfax Ice Arena
SUMMARY;LANGUAGE=en-US: vs 
END:VEVENT
BEGIN:VEVENT
UID:b593bd6285f9fa2e7af1b8cb36d1f811
DTEND;TZID=America/New_York:20260219T011500
DTSTART;TZID=America/New_York:20260218T231500
DTSTAMP;TZID=America/New_York:20260218T231500
LOCATION: Fairfax Ice Arena
SUMMARY;LANGUAGE=en-US: vs 
END:VEVENT
BEGIN:VEVENT
UID:9df73fde97a8f89ce06a23b90827a5e5
DTEND;TZID=America/New_York:20260223T212000
DTSTART;TZID=America/New_York:20260223T192000
DTSTAMP;TZID=America/New_York:20260223T192000
LOCATION: Fairfax Ice Arena
SUMMARY;LANGUAGE=en-US: vs 
END:VEVENT
BEGIN:VEVENT
UID:aeaf5b58614622f23ff20088a65107ab
DTEND;TZID=America/New_York:20260302T224000
DTSTART;TZID=America/New_York:20260302T204000
DTSTAMP;TZID=America/New_York:20260302T204000
LOCATION: Fairfax Ice Arena
SUMMARY;LANGUAGE=en-US: vs 
END:VEVENT
BEGIN:VEVENT
UID:c669ce4e302877b633af82addc226780
DTEND;TZID=America/New_York:20260314T004000
DTSTART;TZID=America/New_York:20260313T224000
DTSTAMP;TZID=America/New_York:20260313T224000
LOCATION: Fairfax Ice Arena
SUMMARY;LANGUAGE=en-US: vs 
END:VEVENT
BEGIN:VEVENT
UID:226227c6ea49d668d87e3c09af0ab26a
DTEND;TZID=America/New_York:20260328T015500
DTSTART;TZID=America/New_York:20260327T235500
DTSTAMP;TZID=America/New_York:20260327T235500
LOCATION: Fairfax Ice Arena
SUMMARY;LANGUAGE=en-US: vs 
END:VEVENT
BEGIN:VEVENT
UID:ed75e3e332dbe37d1181e745c9e76e53
DTEND;TZID=America/New_York:20260405T234000
DTSTART;TZID=America/New_York:20260405T214000
DTSTAMP;TZID=America/New_York:20260405T214000
LOCATION: Fairfax Ice Arena
SUMMARY;LANGUAGE=en-US: vs 
END:VEVENT
BEGIN:VEVENT
UID:bfb36bf75d9c04734d592a13f387ca03
DTEND;TZID=America/New_York:20260413T212000
DTSTART;TZID=America/New_York:20260413T192000
DTSTAMP;TZID=America/New_York:20260413T192000
LOCATION: Fairfax Ice Arena
SUMMARY;LANGUAGE=en-US: vs 
END:VEVENT
BEGIN:VEVENT
UID:ad71a2db34573513fcb3bb6c9509f21a
DTEND;TZID=America/New_York:20260418T205500
DTSTART;TZID=America/New_York:20260418T185500
DTSTAMP;TZID=America/New_York:20260418T185500
LOCATION: Fairfax Ice Arena
SUMMARY;LANGUAGE=en-US: vs 
END:VEVENT
BEGIN:VEVENT
UID:eb366251941613d5be2685aae3e91ee5
DTEND;TZID=America/New_York:20260427T212000
DTSTART;TZID=America/New_York:20260427T192000
DTSTAMP;TZID=America/New_York:20260427T192000
LOCATION: Fairfax Ice Arena
SUMMARY;LANGUAGE=en-US: vs 
END:VEVENT
BEGIN:VEVENT
UID:b12c45284109fe30913818a666869e0c
DTEND;TZID=America/New_York:20260503T195000
DTSTART;TZID=America/New_York:20260503T175000
DTSTAMP;TZID=America/New_York:20260503T175000
LOCATION: Fairfax Ice Arena
SUMMARY;LANGUAGE=en-US: vs 
END:VEVENT
BEGIN:VEVENT
UID:691184c1eb23fbf98ad1b7e6d2f5a4b4
DTEND;TZID=America/New_York:20260510T013000
DTSTART;TZID=America/New_York:20260509T233000
DTSTAMP;TZID=America/New_York:20260509T233000
LOCATION: Fairfax Ice Arena
SUMMARY;LANGUAGE=en-US: vs 
END:VEVENT
BEGIN:VEVENT
UID:c3a90ac5d56460122e82b04bceca3909
DTEND;TZID=America/New_York:20260516T181000
DTSTART;TZID=America/New_York:20260516T161000
DTSTAMP;TZID=America/New_York:20260516T161000
LOCATION: Fairfax Ice Arena
SUMMARY;LANGUAGE=en-US: vs 
END:VEVENT
BEGIN:VEVENT
UID:1a504557eee1bd48eb1225afaf498346
DTEND;TZID=America/New_York:20260524T102000
DTSTART;TZID=America/New_York:20260524T082000
DTSTAMP;TZID=America/New_York:20260524T082000
LOCATION: Fairfax Ice Arena
SUMMARY;LANGUAGE=en-US: vs 
END:VEVENT
END:VCALENDAR
