BEGIN:VCALENDAR
VERSION:2.0
PRODID:-//Apple Inc.//Mac OS X 10.11.4//EN
CALSCALE:GREGORIAN
BEGIN:VEVENT
UID:30b5c3acb3fbb13efcf6ff527a7aa6b7
DTEND;TZID=America/New_York:20251207T090000
DTSTART;TZID=America/New_York:20251207T070000
DTSTAMP;TZID=America/New_York:20251207T070000
LOCATION: Fairfax Ice Arena
SUMMARY;LANGUAGE=en-US: vs 
END:VEVENT
BEGIN:VEVENT
UID:3ff13b7791b8e8d81c0b0e6eb32b381c
DTEND;TZID=America/New_York:20251220T192000
DTSTART;TZID=America/New_York:20251220T172000
DTSTAMP;TZID=America/New_York:20251220T172000
LOCATION: Fairfax Ice Arena
SUMMARY;LANGUAGE=en-US: vs 
END:VEVENT
BEGIN:VEVENT
UID:fbe552b78d3585348dce7332e3723df0
DTEND;TZID=America/New_York:20260104T015500
DTSTART;TZID=America/New_York:20260103T235500
DTSTAMP;TZID=America/New_York:20260103T235500
LOCATION: Fairfax Ice Arena
SUMMARY;LANGUAGE=en-US: vs 
END:VEVENT
BEGIN:VEVENT
UID:cb135aa3e38a24e196209a8c77cd8373
DTEND;TZID=America/New_York:20260112T001500
DTSTART;TZID=America/New_York:20260111T221500
DTSTAMP;TZID=America/New_York:20260111T221500
LOCATION: Fairfax Ice Arena
SUMMARY;LANGUAGE=en-US: vs 
END:VEVENT
BEGIN:VEVENT
UID:008fc5e6b2e1ba9e416ee634909b7443
DTEND;TZID=America/New_York:20260124T192000
DTSTART;TZID=America/New_York:20260124T172000
DTSTAMP;TZID=America/New_York:20260124T172000
LOCATION: Fairfax Ice Arena
SUMMARY;LANGUAGE=en-US: vs 
END:VEVENT
BEGIN:VEVENT
UID:8a2e80de21d098ff21fa4eb12ad18a21
DTEND;TZID=America/New_York:20260201T213500
DTSTART;TZID=America/New_York:20260201T193500
DTSTAMP;TZID=America/New_York:20260201T193500
LOCATION: Fairfax Ice Arena
SUMMARY;LANGUAGE=en-US: vs 
END:VEVENT
BEGIN:VEVENT
UID:5d1e167c06295ef02c36b91ebc4830f4
DTEND;TZID=America/New_York:20260208T004000
DTSTART;TZID=America/New_York:20260207T224000
DTSTAMP;TZID=America/New_York:20260207T224000
LOCATION: Fairfax Ice Arena
SUMMARY;LANGUAGE=en-US: vs 
END:VEVENT
BEGIN:VEVENT
UID:fa1348d62e5ca6f3df06adcd838423f5
DTEND;TZID=America/New_York:20260217T000000
DTSTART;TZID=America/New_York:20260216T220000
DTSTAMP;TZID=America/New_York:20260216T220000
LOCATION: Fairfax Ice Arena
SUMMARY;LANGUAGE=en-US: vs 
END:VEVENT
BEGIN:VEVENT
UID:5f91088d6702a2e5bc1af171e5ac441b
DTEND;TZID=America/New_York:20260301T102000
DTSTART;TZID=America/New_York:20260301T082000
DTSTAMP;TZID=America/New_York:20260301T082000
LOCATION: Fairfax Ice Arena
SUMMARY;LANGUAGE=en-US: vs 
END:VEVENT
BEGIN:VEVENT
UID:062c3cb94809f230a7cc4b0ac10ab37f
DTEND;TZID=America/New_York:20260308T213500
DTSTART;TZID=America/New_York:20260308T193500
DTSTAMP;TZID=America/New_York:20260308T193500
LOCATION: Fairfax Ice Arena
SUMMARY;LANGUAGE=en-US: vs 
END:VEVENT
BEGIN:VEVENT
UID:db205c2865f228bc0a8e4670fb23d118
DTEND;TZID=America/New_York:20260330T212000
DTSTART;TZID=America/New_York:20260330T192000
DTSTAMP;TZID=America/New_York:20260330T192000
LOCATION: Fairfax Ice Arena
SUMMARY;LANGUAGE=en-US: vs 
END:VEVENT
BEGIN:VEVENT
UID:cce8b45392ba05b7aea9f9ee35be4633
DTEND;TZID=America/New_York:20260405T090000
DTSTART;TZID=America/New_York:20260405T070000
DTSTAMP;TZID=America/New_York:20260405T070000
LOCATION: Fairfax Ice Arena
SUMMARY;LANGUAGE=en-US: vs 
END:VEVENT
BEGIN:VEVENT
UID:5e4c0a665ef059e8aa738559f6d3529f
DTEND;TZID=America/New_York:20260412T013000
DTSTART;TZID=America/New_York:20260411T233000
DTSTAMP;TZID=America/New_York:20260411T233000
LOCATION: Fairfax Ice Arena
SUMMARY;LANGUAGE=en-US: vs 
END:VEVENT
BEGIN:VEVENT
UID:417ff6646fac4ae0abf9ba315b2ed3d9
DTEND;TZID=America/New_York:20260420T212000
DTSTART;TZID=America/New_York:20260420T192000
DTSTAMP;TZID=America/New_York:20260420T192000
LOCATION: Fairfax Ice Arena
SUMMARY;LANGUAGE=en-US: vs 
END:VEVENT
BEGIN:VEVENT
UID:49dc2060c247cbe115b48cd4956fc545
DTEND;TZID=America/New_York:20260428T012000
DTSTART;TZID=America/New_York:20260427T232000
DTSTAMP;TZID=America/New_York:20260427T232000
LOCATION: Fairfax Ice Arena
SUMMARY;LANGUAGE=en-US: vs 
END:VEVENT
BEGIN:VEVENT
UID:17da2545271a29507e556d8eb23a797a
DTEND;TZID=America/New_York:20260503T223000
DTSTART;TZID=America/New_York:20260503T203000
DTSTAMP;TZID=America/New_York:20260503T203000
LOCATION: Fairfax Ice Arena
SUMMARY;LANGUAGE=en-US: vs 
END:VEVENT
BEGIN:VEVENT
UID:505b0ebccb8cf04395970fd530cb6459
DTEND;TZID=America/New_York:20260509T205000
DTSTART;TZID=America/New_York:20260509T185000
DTSTAMP;TZID=America/New_York:20260509T185000
LOCATION: Fairfax Ice Arena
SUMMARY;LANGUAGE=en-US: vs 
END:VEVENT
BEGIN:VEVENT
UID:a707d006a962b472d0d22e7bdcb289ed
DTEND;TZID=America/New_York:20260516T090000
DTSTART;TZID=America/New_York:20260516T070000
DTSTAMP;TZID=America/New_York:20260516T070000
LOCATION: Fairfax Ice Arena
SUMMARY;LANGUAGE=en-US: vs 
END:VEVENT
BEGIN:VEVENT
UID:9861b3d9e7f00b1abcd0d4d8c4cd1099
DTEND;TZID=America/New_York:20260525T223000
DTSTART;TZID=America/New_York:20260525T203000
DTSTAMP;TZID=America/New_York:20260525T203000
LOCATION: Fairfax Ice Arena
SUMMARY;LANGUAGE=en-US: vs 
END:VEVENT
BEGIN:VEVENT
UID:c66c055c9b3ce8814d554cd7c2d83018
DTEND;TZID=America/New_York:20260607T001000
DTSTART;TZID=America/New_York:20260606T221000
DTSTAMP;TZID=America/New_York:20260606T221000
LOCATION: Fairfax Ice Arena
SUMMARY;LANGUAGE=en-US: vs 
END:VEVENT
END:VCALENDAR
