BEGIN:VCALENDAR
VERSION:2.0
PRODID:-//Apple Inc.//Mac OS X 10.11.4//EN
CALSCALE:GREGORIAN
BEGIN:VEVENT
UID:c5e09f88d3aefd33c9214e71221ac955
DTEND;TZID=America/New_York:20251207T114000
DTSTART;TZID=America/New_York:20251207T094000
DTSTAMP;TZID=America/New_York:20251207T094000
LOCATION: Fairfax Ice Arena
SUMMARY;LANGUAGE=en-US: vs 
END:VEVENT
BEGIN:VEVENT
UID:3cb5cbd582fffb91e75a681c44cf8d70
DTEND;TZID=America/New_York:20251216T012000
DTSTART;TZID=America/New_York:20251215T232000
DTSTAMP;TZID=America/New_York:20251215T232000
LOCATION: Fairfax Ice Arena
SUMMARY;LANGUAGE=en-US: vs 
END:VEVENT
BEGIN:VEVENT
UID:3e1600a500941da8136a0689bfa3297f
DTEND;TZID=America/New_York:20251228T200000
DTSTART;TZID=America/New_York:20251228T180000
DTSTAMP;TZID=America/New_York:20251228T180000
LOCATION: Fairfax Ice Arena
SUMMARY;LANGUAGE=en-US: vs 
END:VEVENT
BEGIN:VEVENT
UID:5c114518190e7a31df1846f81a4cd013
DTEND;TZID=America/New_York:20260112T212000
DTSTART;TZID=America/New_York:20260112T192000
DTSTAMP;TZID=America/New_York:20260112T192000
LOCATION: Fairfax Ice Arena
SUMMARY;LANGUAGE=en-US: vs 
END:VEVENT
BEGIN:VEVENT
UID:e1c8211981596393563b83adaa9450c7
DTEND;TZID=America/New_York:20260201T090000
DTSTART;TZID=America/New_York:20260201T070000
DTSTAMP;TZID=America/New_York:20260201T070000
LOCATION: Fairfax Ice Arena
SUMMARY;LANGUAGE=en-US: vs 
END:VEVENT
BEGIN:VEVENT
UID:5d1e167c06295ef02c36b91ebc4830f4
DTEND;TZID=America/New_York:20260208T004000
DTSTART;TZID=America/New_York:20260207T224000
DTSTAMP;TZID=America/New_York:20260207T224000
LOCATION: Fairfax Ice Arena
SUMMARY;LANGUAGE=en-US: vs 
END:VEVENT
BEGIN:VEVENT
UID:89ba6b21bf1aa05e53aeac857d3964a0
DTEND;TZID=America/New_York:20260216T224000
DTSTART;TZID=America/New_York:20260216T204000
DTSTAMP;TZID=America/New_York:20260216T204000
LOCATION: Fairfax Ice Arena
SUMMARY;LANGUAGE=en-US: vs 
END:VEVENT
BEGIN:VEVENT
UID:be848712db5b2a9e8b8585ac9d53e6de
DTEND;TZID=America/New_York:20260301T114000
DTSTART;TZID=America/New_York:20260301T094000
DTSTAMP;TZID=America/New_York:20260301T094000
LOCATION: Fairfax Ice Arena
SUMMARY;LANGUAGE=en-US: vs 
END:VEVENT
BEGIN:VEVENT
UID:cdf3a1d2d06ccad980b0abae8f648c08
DTEND;TZID=America/New_York:20260305T011500
DTSTART;TZID=America/New_York:20260304T231500
DTSTAMP;TZID=America/New_York:20260304T231500
LOCATION: Fairfax Ice Arena
SUMMARY;LANGUAGE=en-US: vs 
END:VEVENT
BEGIN:VEVENT
UID:1575bb0e71f35abc8cecdfdf3784eab0
DTEND;TZID=America/New_York:20260308T185500
DTSTART;TZID=America/New_York:20260308T165500
DTSTAMP;TZID=America/New_York:20260308T165500
LOCATION: Fairfax Ice Arena
SUMMARY;LANGUAGE=en-US: vs 
END:VEVENT
BEGIN:VEVENT
UID:0b858bb3b18fbf58130e7fd88aacc97c
DTEND;TZID=America/New_York:20260321T015500
DTSTART;TZID=America/New_York:20260320T235500
DTSTAMP;TZID=America/New_York:20260320T235500
LOCATION: Fairfax Ice Arena
SUMMARY;LANGUAGE=en-US: vs 
END:VEVENT
BEGIN:VEVENT
UID:db205c2865f228bc0a8e4670fb23d118
DTEND;TZID=America/New_York:20260330T212000
DTSTART;TZID=America/New_York:20260330T192000
DTSTAMP;TZID=America/New_York:20260330T192000
LOCATION: Fairfax Ice Arena
SUMMARY;LANGUAGE=en-US: vs 
END:VEVENT
BEGIN:VEVENT
UID:18edfd2f438fe82a0d9168ff53cef91a
DTEND;TZID=America/New_York:20260411T001000
DTSTART;TZID=America/New_York:20260410T221000
DTSTAMP;TZID=America/New_York:20260410T221000
LOCATION: Fairfax Ice Arena
SUMMARY;LANGUAGE=en-US: vs 
END:VEVENT
BEGIN:VEVENT
UID:8be3a82aed05efaa1beea2f0e613ddc4
DTEND;TZID=America/New_York:20260420T010000
DTSTART;TZID=America/New_York:20260419T230000
DTSTAMP;TZID=America/New_York:20260419T230000
LOCATION: Fairfax Ice Arena
SUMMARY;LANGUAGE=en-US: vs 
END:VEVENT
BEGIN:VEVENT
UID:c59de86c34d47237ed1be3a07df7089d
DTEND;TZID=America/New_York:20260428T000000
DTSTART;TZID=America/New_York:20260427T220000
DTSTAMP;TZID=America/New_York:20260427T220000
LOCATION: Fairfax Ice Arena
SUMMARY;LANGUAGE=en-US: vs 
END:VEVENT
BEGIN:VEVENT
UID:2942c12447a1167440398c68d84afdc4
DTEND;TZID=America/New_York:20260505T000000
DTSTART;TZID=America/New_York:20260504T220000
DTSTAMP;TZID=America/New_York:20260504T220000
LOCATION: Fairfax Ice Arena
SUMMARY;LANGUAGE=en-US: vs 
END:VEVENT
BEGIN:VEVENT
UID:9c20e9f421dff2f0003a1f312515fdfb
DTEND;TZID=America/New_York:20260511T212000
DTSTART;TZID=America/New_York:20260511T192000
DTSTAMP;TZID=America/New_York:20260511T192000
LOCATION: Fairfax Ice Arena
SUMMARY;LANGUAGE=en-US: vs 
END:VEVENT
BEGIN:VEVENT
UID:e4a51cb48eaeca1905d2967ac5bfdf4b
DTEND;TZID=America/New_York:20260517T205000
DTSTART;TZID=America/New_York:20260517T185000
DTSTAMP;TZID=America/New_York:20260517T185000
LOCATION: Fairfax Ice Arena
SUMMARY;LANGUAGE=en-US: vs 
END:VEVENT
BEGIN:VEVENT
UID:4dbdd3213e13606725ab5898bd1f504b
DTEND;TZID=America/New_York:20260526T011500
DTSTART;TZID=America/New_York:20260525T231500
DTSTAMP;TZID=America/New_York:20260525T231500
LOCATION: Fairfax Ice Arena
SUMMARY;LANGUAGE=en-US: vs 
END:VEVENT
BEGIN:VEVENT
UID:9d36c7cb461777d403f509ca58cf4d90
DTEND;TZID=America/New_York:20260531T102000
DTSTART;TZID=America/New_York:20260531T082000
DTSTAMP;TZID=America/New_York:20260531T082000
LOCATION: Fairfax Ice Arena
SUMMARY;LANGUAGE=en-US: vs 
END:VEVENT
END:VCALENDAR
