BEGIN:VCALENDAR
VERSION:2.0
PRODID:-//Apple Inc.//Mac OS X 10.11.4//EN
CALSCALE:GREGORIAN
BEGIN:VEVENT
UID:9e23d3892c19c747442621a1d9369ddb
DTEND;TZID=America/New_York:20251201T212000
DTSTART;TZID=America/New_York:20251201T192000
DTSTAMP;TZID=America/New_York:20251201T192000
LOCATION: Fairfax Ice Arena
SUMMARY;LANGUAGE=en-US: vs 
END:VEVENT
BEGIN:VEVENT
UID:b4a8f79e04c2b43246666228ac21e1d4
DTEND;TZID=America/New_York:20251209T000000
DTSTART;TZID=America/New_York:20251208T220000
DTSTAMP;TZID=America/New_York:20251208T220000
LOCATION: Fairfax Ice Arena
SUMMARY;LANGUAGE=en-US: vs 
END:VEVENT
BEGIN:VEVENT
UID:95338fc99947117b91c9ef6ccccb0c69
DTEND;TZID=America/New_York:20260108T011500
DTSTART;TZID=America/New_York:20260107T231500
DTSTAMP;TZID=America/New_York:20260107T231500
LOCATION: Fairfax Ice Arena
SUMMARY;LANGUAGE=en-US: vs 
END:VEVENT
BEGIN:VEVENT
UID:a46d767f1110e26b85b7c1d77d2cb792
DTEND;TZID=America/New_York:20260111T114000
DTSTART;TZID=America/New_York:20260111T094000
DTSTAMP;TZID=America/New_York:20260111T094000
LOCATION: Fairfax Ice Arena
SUMMARY;LANGUAGE=en-US: vs 
END:VEVENT
BEGIN:VEVENT
UID:a2c05ac67681b2bff5f4a08943c49014
DTEND;TZID=America/New_York:20260120T000000
DTSTART;TZID=America/New_York:20260119T220000
DTSTAMP;TZID=America/New_York:20260119T220000
LOCATION: Fairfax Ice Arena
SUMMARY;LANGUAGE=en-US: vs 
END:VEVENT
BEGIN:VEVENT
UID:78a2b825f8a081107b726951f443e6c3
DTEND;TZID=America/New_York:20260131T004000
DTSTART;TZID=America/New_York:20260130T224000
DTSTAMP;TZID=America/New_York:20260130T224000
LOCATION: Fairfax Ice Arena
SUMMARY;LANGUAGE=en-US: vs 
END:VEVENT
BEGIN:VEVENT
UID:139832899780b1d29960adbef14b7659
DTEND;TZID=America/New_York:20260207T015500
DTSTART;TZID=America/New_York:20260206T235500
DTSTAMP;TZID=America/New_York:20260206T235500
LOCATION: Fairfax Ice Arena
SUMMARY;LANGUAGE=en-US: vs 
END:VEVENT
BEGIN:VEVENT
UID:45e69d14feee47bac5cb4704a75fac48
DTEND;TZID=America/New_York:20260215T213500
DTSTART;TZID=America/New_York:20260215T193500
DTSTAMP;TZID=America/New_York:20260215T193500
LOCATION: Fairfax Ice Arena
SUMMARY;LANGUAGE=en-US: vs 
END:VEVENT
BEGIN:VEVENT
UID:63df20299c17b1cb822336dfa5bacef9
DTEND;TZID=America/New_York:20260301T004000
DTSTART;TZID=America/New_York:20260228T224000
DTSTAMP;TZID=America/New_York:20260228T224000
LOCATION: Fairfax Ice Arena
SUMMARY;LANGUAGE=en-US: vs 
END:VEVENT
BEGIN:VEVENT
UID:397a3c427fea98749cef2eb8c7267fb8
DTEND;TZID=America/New_York:20260304T011500
DTSTART;TZID=America/New_York:20260303T231500
DTSTAMP;TZID=America/New_York:20260303T231500
LOCATION: Fairfax Ice Arena
SUMMARY;LANGUAGE=en-US: vs 
END:VEVENT
BEGIN:VEVENT
UID:49b18918b7473e5f6139569382245e87
DTEND;TZID=America/New_York:20260323T224000
DTSTART;TZID=America/New_York:20260323T204000
DTSTAMP;TZID=America/New_York:20260323T204000
LOCATION: Fairfax Ice Arena
SUMMARY;LANGUAGE=en-US: vs 
END:VEVENT
BEGIN:VEVENT
UID:0b7b21723ba8af7f44f4ba472a7ecba4
DTEND;TZID=America/New_York:20260330T001500
DTSTART;TZID=America/New_York:20260329T221500
DTSTAMP;TZID=America/New_York:20260329T221500
LOCATION: Fairfax Ice Arena
SUMMARY;LANGUAGE=en-US: vs 
END:VEVENT
BEGIN:VEVENT
UID:9120489a15b39773daf2a83e13f9d8bb
DTEND;TZID=America/New_York:20260405T181000
DTSTART;TZID=America/New_York:20260405T161000
DTSTAMP;TZID=America/New_York:20260405T161000
LOCATION: Fairfax Ice Arena
SUMMARY;LANGUAGE=en-US: vs 
END:VEVENT
BEGIN:VEVENT
UID:eef4e349147300c584f63cd0401c1bef
DTEND;TZID=America/New_York:20260406T224000
DTSTART;TZID=America/New_York:20260406T204000
DTSTAMP;TZID=America/New_York:20260406T204000
LOCATION: Fairfax Ice Arena
SUMMARY;LANGUAGE=en-US: vs 
END:VEVENT
BEGIN:VEVENT
UID:255baa130df15fad5cd8add62fe8db52
DTEND;TZID=America/New_York:20260414T000000
DTSTART;TZID=America/New_York:20260413T220000
DTSTAMP;TZID=America/New_York:20260413T220000
LOCATION: Fairfax Ice Arena
SUMMARY;LANGUAGE=en-US: vs 
END:VEVENT
BEGIN:VEVENT
UID:69501c5d1d342814872c407e996b9fa4
DTEND;TZID=America/New_York:20260425T013000
DTSTART;TZID=America/New_York:20260424T233000
DTSTAMP;TZID=America/New_York:20260424T233000
LOCATION: Fairfax Ice Arena
SUMMARY;LANGUAGE=en-US: vs 
END:VEVENT
BEGIN:VEVENT
UID:495906510b86fcc9a4845b04b289ac12
DTEND;TZID=America/New_York:20260509T090000
DTSTART;TZID=America/New_York:20260509T070000
DTSTAMP;TZID=America/New_York:20260509T070000
LOCATION: Fairfax Ice Arena
SUMMARY;LANGUAGE=en-US: vs 
END:VEVENT
BEGIN:VEVENT
UID:e2e70d37b52dd1677ddbe9f617862e09
DTEND;TZID=America/New_York:20260518T212000
DTSTART;TZID=America/New_York:20260518T192000
DTSTAMP;TZID=America/New_York:20260518T192000
LOCATION: Fairfax Ice Arena
SUMMARY;LANGUAGE=en-US: vs 
END:VEVENT
BEGIN:VEVENT
UID:4e675af820e9454eb76ba2a7510574f7
DTEND;TZID=America/New_York:20260524T090000
DTSTART;TZID=America/New_York:20260524T070000
DTSTAMP;TZID=America/New_York:20260524T070000
LOCATION: Fairfax Ice Arena
SUMMARY;LANGUAGE=en-US: vs 
END:VEVENT
BEGIN:VEVENT
UID:1763a76209e0d614fb9b27e207d6e554
DTEND;TZID=America/New_York:20260530T181000
DTSTART;TZID=America/New_York:20260530T161000
DTSTAMP;TZID=America/New_York:20260530T161000
LOCATION: Fairfax Ice Arena
SUMMARY;LANGUAGE=en-US: vs 
END:VEVENT
END:VCALENDAR
