BEGIN:VCALENDAR
VERSION:2.0
PRODID:-//Apple Inc.//Mac OS X 10.11.4//EN
CALSCALE:GREGORIAN
BEGIN:VEVENT
UID:949b06d110eab3592261a6237b52d7cb
DTEND;TZID=America/New_York:20251206T192000
DTSTART;TZID=America/New_York:20251206T172000
DTSTAMP;TZID=America/New_York:20251206T172000
LOCATION: Fairfax Ice Arena
SUMMARY;LANGUAGE=en-US: vs 
END:VEVENT
BEGIN:VEVENT
UID:63a2b686dbf033c9a16c1b78d3499315
DTEND;TZID=America/New_York:20251208T224000
DTSTART;TZID=America/New_York:20251208T204000
DTSTAMP;TZID=America/New_York:20251208T204000
LOCATION: Fairfax Ice Arena
SUMMARY;LANGUAGE=en-US: vs 
END:VEVENT
BEGIN:VEVENT
UID:3d2528df863c774664054e8bf4928eb5
DTEND;TZID=America/New_York:20251220T004000
DTSTART;TZID=America/New_York:20251219T224000
DTSTAMP;TZID=America/New_York:20251219T224000
LOCATION: Fairfax Ice Arena
SUMMARY;LANGUAGE=en-US: vs 
END:VEVENT
BEGIN:VEVENT
UID:47db56ae610e3b874f2267458764cf7d
DTEND;TZID=America/New_York:20260111T015500
DTSTART;TZID=America/New_York:20260110T235500
DTSTAMP;TZID=America/New_York:20260110T235500
LOCATION: Fairfax Ice Arena
SUMMARY;LANGUAGE=en-US: vs 
END:VEVENT
BEGIN:VEVENT
UID:a2c05ac67681b2bff5f4a08943c49014
DTEND;TZID=America/New_York:20260120T000000
DTSTART;TZID=America/New_York:20260119T220000
DTSTAMP;TZID=America/New_York:20260119T220000
LOCATION: Fairfax Ice Arena
SUMMARY;LANGUAGE=en-US: vs 
END:VEVENT
BEGIN:VEVENT
UID:641af5e8a80c24a25afe7fe6e20af561
DTEND;TZID=America/New_York:20260209T224000
DTSTART;TZID=America/New_York:20260209T204000
DTSTAMP;TZID=America/New_York:20260209T204000
LOCATION: Fairfax Ice Arena
SUMMARY;LANGUAGE=en-US: vs 
END:VEVENT
BEGIN:VEVENT
UID:ee5b651c00645573a1cec9f86f0f1cbd
DTEND;TZID=America/New_York:20260215T225500
DTSTART;TZID=America/New_York:20260215T205500
DTSTAMP;TZID=America/New_York:20260215T205500
LOCATION: Fairfax Ice Arena
SUMMARY;LANGUAGE=en-US: vs 
END:VEVENT
BEGIN:VEVENT
UID:bb145ba1da833cefa59e51dc1ed23426
DTEND;TZID=America/New_York:20260222T214500
DTSTART;TZID=America/New_York:20260222T194500
DTSTAMP;TZID=America/New_York:20260222T194500
LOCATION: Fairfax Ice Arena
SUMMARY;LANGUAGE=en-US: vs 
END:VEVENT
BEGIN:VEVENT
UID:7be843d9b9879d2673c17b9b59b4aa05
DTEND;TZID=America/New_York:20260309T001500
DTSTART;TZID=America/New_York:20260308T221500
DTSTAMP;TZID=America/New_York:20260308T221500
LOCATION: Fairfax Ice Arena
SUMMARY;LANGUAGE=en-US: vs 
END:VEVENT
BEGIN:VEVENT
UID:503b197a900ebe592c94ceff771acc2a
DTEND;TZID=America/New_York:20260310T012000
DTSTART;TZID=America/New_York:20260309T232000
DTSTAMP;TZID=America/New_York:20260309T232000
LOCATION: Fairfax Ice Arena
SUMMARY;LANGUAGE=en-US: vs 
END:VEVENT
BEGIN:VEVENT
UID:d596622f38aaf4e0a5a39d35a0ae6360
DTEND;TZID=America/New_York:20260324T000000
DTSTART;TZID=America/New_York:20260323T220000
DTSTAMP;TZID=America/New_York:20260323T220000
LOCATION: Fairfax Ice Arena
SUMMARY;LANGUAGE=en-US: vs 
END:VEVENT
BEGIN:VEVENT
UID:0b7b21723ba8af7f44f4ba472a7ecba4
DTEND;TZID=America/New_York:20260330T001500
DTSTART;TZID=America/New_York:20260329T221500
DTSTAMP;TZID=America/New_York:20260329T221500
LOCATION: Fairfax Ice Arena
SUMMARY;LANGUAGE=en-US: vs 
END:VEVENT
BEGIN:VEVENT
UID:0f07c35f7d84ea5a3dee8644a73e7f5c
DTEND;TZID=America/New_York:20260404T210000
DTSTART;TZID=America/New_York:20260404T190000
DTSTAMP;TZID=America/New_York:20260404T190000
LOCATION: Fairfax Ice Arena
SUMMARY;LANGUAGE=en-US: vs 
END:VEVENT
BEGIN:VEVENT
UID:bddf41a4860986ae121dc617cf9f66b4
DTEND;TZID=America/New_York:20260407T000000
DTSTART;TZID=America/New_York:20260406T220000
DTSTAMP;TZID=America/New_York:20260406T220000
LOCATION: Fairfax Ice Arena
SUMMARY;LANGUAGE=en-US: vs 
END:VEVENT
BEGIN:VEVENT
UID:a2cdf17226c71f0dce3bdb0e70cb17de
DTEND;TZID=America/New_York:20260412T221000
DTSTART;TZID=America/New_York:20260412T201000
DTSTAMP;TZID=America/New_York:20260412T201000
LOCATION: Fairfax Ice Arena
SUMMARY;LANGUAGE=en-US: vs 
END:VEVENT
BEGIN:VEVENT
UID:68d557f07dba0c00576c4d8ea35616bc
DTEND;TZID=America/New_York:20260422T011500
DTSTART;TZID=America/New_York:20260421T231500
DTSTAMP;TZID=America/New_York:20260421T231500
LOCATION: Fairfax Ice Arena
SUMMARY;LANGUAGE=en-US: vs 
END:VEVENT
BEGIN:VEVENT
UID:552da0b4cf52196f46cc4f0a9955de7d
DTEND;TZID=America/New_York:20260509T013000
DTSTART;TZID=America/New_York:20260508T233000
DTSTAMP;TZID=America/New_York:20260508T233000
LOCATION: Fairfax Ice Arena
SUMMARY;LANGUAGE=en-US: vs 
END:VEVENT
BEGIN:VEVENT
UID:ddd9ab5c7a9a6b3f09ffb2a12842bc2a
DTEND;TZID=America/New_York:20260517T090000
DTSTART;TZID=America/New_York:20260517T070000
DTSTAMP;TZID=America/New_York:20260517T070000
LOCATION: Fairfax Ice Arena
SUMMARY;LANGUAGE=en-US: vs 
END:VEVENT
BEGIN:VEVENT
UID:9e7eb09d076b1e58c39acc5e23d9313d
DTEND;TZID=America/New_York:20260524T013000
DTSTART;TZID=America/New_York:20260523T233000
DTSTAMP;TZID=America/New_York:20260523T233000
LOCATION: Fairfax Ice Arena
SUMMARY;LANGUAGE=en-US: vs 
END:VEVENT
BEGIN:VEVENT
UID:6faf26bb7207d7b52a8ee5eca37b1c2f
DTEND;TZID=America/New_York:20260607T221000
DTSTART;TZID=America/New_York:20260607T201000
DTSTAMP;TZID=America/New_York:20260607T201000
LOCATION: Fairfax Ice Arena
SUMMARY;LANGUAGE=en-US: vs 
END:VEVENT
END:VCALENDAR
