BEGIN:VCALENDAR
VERSION:2.0
PRODID:-//Apple Inc.//Mac OS X 10.11.4//EN
CALSCALE:GREGORIAN
BEGIN:VEVENT
UID:fcc3693b926ebb95f8629d35a236266b
DTEND;TZID=America/New_York:20251207T004000
DTSTART;TZID=America/New_York:20251206T224000
DTSTAMP;TZID=America/New_York:20251206T224000
LOCATION: Fairfax Ice Arena
SUMMARY;LANGUAGE=en-US: vs 
END:VEVENT
BEGIN:VEVENT
UID:b4a4d2a0f0475085c130843c901db103
DTEND;TZID=America/New_York:20251214T004000
DTSTART;TZID=America/New_York:20251213T224000
DTSTAMP;TZID=America/New_York:20251213T224000
LOCATION: Fairfax Ice Arena
SUMMARY;LANGUAGE=en-US: vs 
END:VEVENT
BEGIN:VEVENT
UID:467a2a3d1c7ef7bdd6667dd33bdbed2b
DTEND;TZID=America/New_York:20251220T205000
DTSTART;TZID=America/New_York:20251220T185000
DTSTAMP;TZID=America/New_York:20251220T185000
LOCATION: Fairfax Ice Arena
SUMMARY;LANGUAGE=en-US: vs 
END:VEVENT
BEGIN:VEVENT
UID:95338fc99947117b91c9ef6ccccb0c69
DTEND;TZID=America/New_York:20260108T011500
DTSTART;TZID=America/New_York:20260107T231500
DTSTAMP;TZID=America/New_York:20260107T231500
LOCATION: Fairfax Ice Arena
SUMMARY;LANGUAGE=en-US: vs 
END:VEVENT
BEGIN:VEVENT
UID:c5652a9e61ba890252b098f3ea66dece
DTEND;TZID=America/New_York:20260111T102000
DTSTART;TZID=America/New_York:20260111T082000
DTSTAMP;TZID=America/New_York:20260111T082000
LOCATION: Fairfax Ice Arena
SUMMARY;LANGUAGE=en-US: vs 
END:VEVENT
BEGIN:VEVENT
UID:6f5cb155fe212954cf744f526e971486
DTEND;TZID=America/New_York:20260119T212000
DTSTART;TZID=America/New_York:20260119T192000
DTSTAMP;TZID=America/New_York:20260119T192000
LOCATION: Fairfax Ice Arena
SUMMARY;LANGUAGE=en-US: vs 
END:VEVENT
BEGIN:VEVENT
UID:7cdb8101f32d72e0f476ba9c8589dafb
DTEND;TZID=America/New_York:20260210T000000
DTSTART;TZID=America/New_York:20260209T220000
DTSTAMP;TZID=America/New_York:20260209T220000
LOCATION: Fairfax Ice Arena
SUMMARY;LANGUAGE=en-US: vs 
END:VEVENT
BEGIN:VEVENT
UID:ee5b651c00645573a1cec9f86f0f1cbd
DTEND;TZID=America/New_York:20260215T225500
DTSTART;TZID=America/New_York:20260215T205500
DTSTAMP;TZID=America/New_York:20260215T205500
LOCATION: Fairfax Ice Arena
SUMMARY;LANGUAGE=en-US: vs 
END:VEVENT
BEGIN:VEVENT
UID:6fab47641ac9bae6da86b64bdfdc79e8
DTEND;TZID=America/New_York:20260224T012000
DTSTART;TZID=America/New_York:20260223T232000
DTSTAMP;TZID=America/New_York:20260223T232000
LOCATION: Fairfax Ice Arena
SUMMARY;LANGUAGE=en-US: vs 
END:VEVENT
BEGIN:VEVENT
UID:9bdb3eb75a168cf97b2d816a082a6a0a
DTEND;TZID=America/New_York:20260228T192000
DTSTART;TZID=America/New_York:20260228T172000
DTSTAMP;TZID=America/New_York:20260228T172000
LOCATION: Fairfax Ice Arena
SUMMARY;LANGUAGE=en-US: vs 
END:VEVENT
BEGIN:VEVENT
UID:f4bd4fb994cf2688ed3ffa6e0ff6acc6
DTEND;TZID=America/New_York:20260315T090000
DTSTART;TZID=America/New_York:20260315T070000
DTSTAMP;TZID=America/New_York:20260315T070000
LOCATION: Fairfax Ice Arena
SUMMARY;LANGUAGE=en-US: vs 
END:VEVENT
BEGIN:VEVENT
UID:766bd5cc1cec819a528e2e80d6e24313
DTEND;TZID=America/New_York:20260323T212000
DTSTART;TZID=America/New_York:20260323T192000
DTSTAMP;TZID=America/New_York:20260323T192000
LOCATION: Fairfax Ice Arena
SUMMARY;LANGUAGE=en-US: vs 
END:VEVENT
BEGIN:VEVENT
UID:60b9a2d92af33c5afac5cd0f647d4459
DTEND;TZID=America/New_York:20260328T090000
DTSTART;TZID=America/New_York:20260328T070000
DTSTAMP;TZID=America/New_York:20260328T070000
LOCATION: Fairfax Ice Arena
SUMMARY;LANGUAGE=en-US: vs 
END:VEVENT
BEGIN:VEVENT
UID:bddf41a4860986ae121dc617cf9f66b4
DTEND;TZID=America/New_York:20260407T000000
DTSTART;TZID=America/New_York:20260406T220000
DTSTAMP;TZID=America/New_York:20260406T220000
LOCATION: Fairfax Ice Arena
SUMMARY;LANGUAGE=en-US: vs 
END:VEVENT
BEGIN:VEVENT
UID:f161c5055d7ac72d74b5a996dd283015
DTEND;TZID=America/New_York:20260412T233000
DTSTART;TZID=America/New_York:20260412T213000
DTSTAMP;TZID=America/New_York:20260412T213000
LOCATION: Fairfax Ice Arena
SUMMARY;LANGUAGE=en-US: vs 
END:VEVENT
BEGIN:VEVENT
UID:69501c5d1d342814872c407e996b9fa4
DTEND;TZID=America/New_York:20260425T013000
DTSTART;TZID=America/New_York:20260424T233000
DTSTAMP;TZID=America/New_York:20260424T233000
LOCATION: Fairfax Ice Arena
SUMMARY;LANGUAGE=en-US: vs 
END:VEVENT
BEGIN:VEVENT
UID:20564b26872726995e3d691e0d48a894
DTEND;TZID=America/New_York:20260509T181000
DTSTART;TZID=America/New_York:20260509T161000
DTSTAMP;TZID=America/New_York:20260509T161000
LOCATION: Fairfax Ice Arena
SUMMARY;LANGUAGE=en-US: vs 
END:VEVENT
BEGIN:VEVENT
UID:e5da8a3b0035aeaab6d0e1333c6e05bd
DTEND;TZID=America/New_York:20260517T114000
DTSTART;TZID=America/New_York:20260517T094000
DTSTAMP;TZID=America/New_York:20260517T094000
LOCATION: Fairfax Ice Arena
SUMMARY;LANGUAGE=en-US: vs 
END:VEVENT
BEGIN:VEVENT
UID:9e7eb09d076b1e58c39acc5e23d9313d
DTEND;TZID=America/New_York:20260524T013000
DTSTART;TZID=America/New_York:20260523T233000
DTSTAMP;TZID=America/New_York:20260523T233000
LOCATION: Fairfax Ice Arena
SUMMARY;LANGUAGE=en-US: vs 
END:VEVENT
BEGIN:VEVENT
UID:1763a76209e0d614fb9b27e207d6e554
DTEND;TZID=America/New_York:20260530T181000
DTSTART;TZID=America/New_York:20260530T161000
DTSTAMP;TZID=America/New_York:20260530T161000
LOCATION: Fairfax Ice Arena
SUMMARY;LANGUAGE=en-US: vs 
END:VEVENT
END:VCALENDAR
