BEGIN:VCALENDAR
VERSION:2.0
PRODID:-//Apple Inc.//Mac OS X 10.11.4//EN
CALSCALE:GREGORIAN
BEGIN:VEVENT
UID:fcc3693b926ebb95f8629d35a236266b
DTEND;TZID=America/New_York:20251207T004000
DTSTART;TZID=America/New_York:20251206T224000
DTSTAMP;TZID=America/New_York:20251206T224000
LOCATION: Fairfax Ice Arena
SUMMARY;LANGUAGE=en-US: vs 
END:VEVENT
BEGIN:VEVENT
UID:63a2b686dbf033c9a16c1b78d3499315
DTEND;TZID=America/New_York:20251208T224000
DTSTART;TZID=America/New_York:20251208T204000
DTSTAMP;TZID=America/New_York:20251208T204000
LOCATION: Fairfax Ice Arena
SUMMARY;LANGUAGE=en-US: vs 
END:VEVENT
BEGIN:VEVENT
UID:62cd26a4575bc8c5fbb4131429360fc6
DTEND;TZID=America/New_York:20251221T015500
DTSTART;TZID=America/New_York:20251220T235500
DTSTAMP;TZID=America/New_York:20251220T235500
LOCATION: Fairfax Ice Arena
SUMMARY;LANGUAGE=en-US: vs 
END:VEVENT
BEGIN:VEVENT
UID:68199ec67b891f649010db015ff3f4dd
DTEND;TZID=America/New_York:20260103T090000
DTSTART;TZID=America/New_York:20260103T070000
DTSTAMP;TZID=America/New_York:20260103T070000
LOCATION: Fairfax Ice Arena
SUMMARY;LANGUAGE=en-US: vs 
END:VEVENT
BEGIN:VEVENT
UID:e8ddaaa02318ea6ece902da185e03881
DTEND;TZID=America/New_York:20260110T015500
DTSTART;TZID=America/New_York:20260109T235500
DTSTAMP;TZID=America/New_York:20260109T235500
LOCATION: Fairfax Ice Arena
SUMMARY;LANGUAGE=en-US: vs 
END:VEVENT
BEGIN:VEVENT
UID:139832899780b1d29960adbef14b7659
DTEND;TZID=America/New_York:20260207T015500
DTSTART;TZID=America/New_York:20260206T235500
DTSTAMP;TZID=America/New_York:20260206T235500
LOCATION: Fairfax Ice Arena
SUMMARY;LANGUAGE=en-US: vs 
END:VEVENT
BEGIN:VEVENT
UID:641af5e8a80c24a25afe7fe6e20af561
DTEND;TZID=America/New_York:20260209T224000
DTSTART;TZID=America/New_York:20260209T204000
DTSTAMP;TZID=America/New_York:20260209T204000
LOCATION: Fairfax Ice Arena
SUMMARY;LANGUAGE=en-US: vs 
END:VEVENT
BEGIN:VEVENT
UID:3cbacd697140c62e5a8b0420bb2ee371
DTEND;TZID=America/New_York:20260215T185500
DTSTART;TZID=America/New_York:20260215T165500
DTSTAMP;TZID=America/New_York:20260215T165500
LOCATION: Fairfax Ice Arena
SUMMARY;LANGUAGE=en-US: vs 
END:VEVENT
BEGIN:VEVENT
UID:6fab47641ac9bae6da86b64bdfdc79e8
DTEND;TZID=America/New_York:20260224T012000
DTSTART;TZID=America/New_York:20260223T232000
DTSTAMP;TZID=America/New_York:20260223T232000
LOCATION: Fairfax Ice Arena
SUMMARY;LANGUAGE=en-US: vs 
END:VEVENT
BEGIN:VEVENT
UID:98364e38ea57cdb7e4a6bfced4b3371c
DTEND;TZID=America/New_York:20260309T212000
DTSTART;TZID=America/New_York:20260309T192000
DTSTAMP;TZID=America/New_York:20260309T192000
LOCATION: Fairfax Ice Arena
SUMMARY;LANGUAGE=en-US: vs 
END:VEVENT
BEGIN:VEVENT
UID:89759763a38c2e35aeb8b409b8fa0256
DTEND;TZID=America/New_York:20260315T204000
DTSTART;TZID=America/New_York:20260315T184000
DTSTAMP;TZID=America/New_York:20260315T184000
LOCATION: Fairfax Ice Arena
SUMMARY;LANGUAGE=en-US: vs 
END:VEVENT
BEGIN:VEVENT
UID:98d64c7e2d7693436bdd193e889ad956
DTEND;TZID=America/New_York:20260322T015500
DTSTART;TZID=America/New_York:20260321T235500
DTSTAMP;TZID=America/New_York:20260321T235500
LOCATION: Fairfax Ice Arena
SUMMARY;LANGUAGE=en-US: vs 
END:VEVENT
BEGIN:VEVENT
UID:a5cfa290fabd32cd0b2f04e6e8cff6c9
DTEND;TZID=America/New_York:20260404T195000
DTSTART;TZID=America/New_York:20260404T175000
DTSTAMP;TZID=America/New_York:20260404T175000
LOCATION: Fairfax Ice Arena
SUMMARY;LANGUAGE=en-US: vs 
END:VEVENT
BEGIN:VEVENT
UID:d3c338fa51a124010df3930f661e7a97
DTEND;TZID=America/New_York:20260406T212000
DTSTART;TZID=America/New_York:20260406T192000
DTSTAMP;TZID=America/New_York:20260406T192000
LOCATION: Fairfax Ice Arena
SUMMARY;LANGUAGE=en-US: vs 
END:VEVENT
BEGIN:VEVENT
UID:255baa130df15fad5cd8add62fe8db52
DTEND;TZID=America/New_York:20260414T000000
DTSTART;TZID=America/New_York:20260413T220000
DTSTAMP;TZID=America/New_York:20260413T220000
LOCATION: Fairfax Ice Arena
SUMMARY;LANGUAGE=en-US: vs 
END:VEVENT
BEGIN:VEVENT
UID:1f756f3bebabe2a01c03b0c247d01985
DTEND;TZID=America/New_York:20260427T224000
DTSTART;TZID=America/New_York:20260427T204000
DTSTAMP;TZID=America/New_York:20260427T204000
LOCATION: Fairfax Ice Arena
SUMMARY;LANGUAGE=en-US: vs 
END:VEVENT
BEGIN:VEVENT
UID:20564b26872726995e3d691e0d48a894
DTEND;TZID=America/New_York:20260509T181000
DTSTART;TZID=America/New_York:20260509T161000
DTSTAMP;TZID=America/New_York:20260509T161000
LOCATION: Fairfax Ice Arena
SUMMARY;LANGUAGE=en-US: vs 
END:VEVENT
BEGIN:VEVENT
UID:6e845589d887a89fedceaab4569cbedf
DTEND;TZID=America/New_York:20260517T102000
DTSTART;TZID=America/New_York:20260517T082000
DTSTAMP;TZID=America/New_York:20260517T082000
LOCATION: Fairfax Ice Arena
SUMMARY;LANGUAGE=en-US: vs 
END:VEVENT
BEGIN:VEVENT
UID:180964f1b6ac1e2f6bfa909eb764ec2b
DTEND;TZID=America/New_York:20260524T001000
DTSTART;TZID=America/New_York:20260523T221000
DTSTAMP;TZID=America/New_York:20260523T221000
LOCATION: Fairfax Ice Arena
SUMMARY;LANGUAGE=en-US: vs 
END:VEVENT
BEGIN:VEVENT
UID:29d09d7c3e72975b696e9a35342e479e
DTEND;TZID=America/New_York:20260531T001000
DTSTART;TZID=America/New_York:20260530T221000
DTSTAMP;TZID=America/New_York:20260530T221000
LOCATION: Fairfax Ice Arena
SUMMARY;LANGUAGE=en-US: vs 
END:VEVENT
END:VCALENDAR
