BEGIN:VCALENDAR
VERSION:2.0
PRODID:-//Apple Inc.//Mac OS X 10.11.4//EN
CALSCALE:GREGORIAN
BEGIN:VEVENT
UID:949b06d110eab3592261a6237b52d7cb
DTEND;TZID=America/New_York:20251206T192000
DTSTART;TZID=America/New_York:20251206T172000
DTSTAMP;TZID=America/New_York:20251206T172000
LOCATION: Fairfax Ice Arena
SUMMARY;LANGUAGE=en-US: vs 
END:VEVENT
BEGIN:VEVENT
UID:b4a8f79e04c2b43246666228ac21e1d4
DTEND;TZID=America/New_York:20251209T000000
DTSTART;TZID=America/New_York:20251208T220000
DTSTAMP;TZID=America/New_York:20251208T220000
LOCATION: Fairfax Ice Arena
SUMMARY;LANGUAGE=en-US: vs 
END:VEVENT
BEGIN:VEVENT
UID:9e4528cee35f456b6eae21e2e20cda84
DTEND;TZID=America/New_York:20251221T004000
DTSTART;TZID=America/New_York:20251220T224000
DTSTAMP;TZID=America/New_York:20251220T224000
LOCATION: Fairfax Ice Arena
SUMMARY;LANGUAGE=en-US: vs 
END:VEVENT
BEGIN:VEVENT
UID:68199ec67b891f649010db015ff3f4dd
DTEND;TZID=America/New_York:20260103T090000
DTSTART;TZID=America/New_York:20260103T070000
DTSTAMP;TZID=America/New_York:20260103T070000
LOCATION: Fairfax Ice Arena
SUMMARY;LANGUAGE=en-US: vs 
END:VEVENT
BEGIN:VEVENT
UID:c5652a9e61ba890252b098f3ea66dece
DTEND;TZID=America/New_York:20260111T102000
DTSTART;TZID=America/New_York:20260111T082000
DTSTAMP;TZID=America/New_York:20260111T082000
LOCATION: Fairfax Ice Arena
SUMMARY;LANGUAGE=en-US: vs 
END:VEVENT
BEGIN:VEVENT
UID:b8bf2eb68ff426ce6543396c036ab358
DTEND;TZID=America/New_York:20260118T090000
DTSTART;TZID=America/New_York:20260118T070000
DTSTAMP;TZID=America/New_York:20260118T070000
LOCATION: Fairfax Ice Arena
SUMMARY;LANGUAGE=en-US: vs 
END:VEVENT
BEGIN:VEVENT
UID:a10ab3f23e2c37888c52c442d1a4d9de
DTEND;TZID=America/New_York:20260201T004000
DTSTART;TZID=America/New_York:20260131T224000
DTSTAMP;TZID=America/New_York:20260131T224000
LOCATION: Fairfax Ice Arena
SUMMARY;LANGUAGE=en-US: vs 
END:VEVENT
BEGIN:VEVENT
UID:4ac0e40172fab10f1d7bcb56bdf77138
DTEND;TZID=America/New_York:20260209T212000
DTSTART;TZID=America/New_York:20260209T192000
DTSTAMP;TZID=America/New_York:20260209T192000
LOCATION: Fairfax Ice Arena
SUMMARY;LANGUAGE=en-US: vs 
END:VEVENT
BEGIN:VEVENT
UID:bb145ba1da833cefa59e51dc1ed23426
DTEND;TZID=America/New_York:20260222T214500
DTSTART;TZID=America/New_York:20260222T194500
DTSTAMP;TZID=America/New_York:20260222T194500
LOCATION: Fairfax Ice Arena
SUMMARY;LANGUAGE=en-US: vs 
END:VEVENT
BEGIN:VEVENT
UID:63df20299c17b1cb822336dfa5bacef9
DTEND;TZID=America/New_York:20260301T004000
DTSTART;TZID=America/New_York:20260228T224000
DTSTAMP;TZID=America/New_York:20260228T224000
LOCATION: Fairfax Ice Arena
SUMMARY;LANGUAGE=en-US: vs 
END:VEVENT
BEGIN:VEVENT
UID:33f0273c285d186bd6876a65b5fbb86e
DTEND;TZID=America/New_York:20260315T102000
DTSTART;TZID=America/New_York:20260315T082000
DTSTAMP;TZID=America/New_York:20260315T082000
LOCATION: Fairfax Ice Arena
SUMMARY;LANGUAGE=en-US: vs 
END:VEVENT
BEGIN:VEVENT
UID:766bd5cc1cec819a528e2e80d6e24313
DTEND;TZID=America/New_York:20260323T212000
DTSTART;TZID=America/New_York:20260323T192000
DTSTAMP;TZID=America/New_York:20260323T192000
LOCATION: Fairfax Ice Arena
SUMMARY;LANGUAGE=en-US: vs 
END:VEVENT
BEGIN:VEVENT
UID:b097af78a564497c6140f46953fa590c
DTEND;TZID=America/New_York:20260329T090000
DTSTART;TZID=America/New_York:20260329T070000
DTSTAMP;TZID=America/New_York:20260329T070000
LOCATION: Fairfax Ice Arena
SUMMARY;LANGUAGE=en-US: vs 
END:VEVENT
BEGIN:VEVENT
UID:55a1a5873a3902e77d901be4fb869e96
DTEND;TZID=America/New_York:20260404T001000
DTSTART;TZID=America/New_York:20260403T221000
DTSTAMP;TZID=America/New_York:20260403T221000
LOCATION: Fairfax Ice Arena
SUMMARY;LANGUAGE=en-US: vs 
END:VEVENT
BEGIN:VEVENT
UID:4d2dfd1f2b5a705dd0890743445eace6
DTEND;TZID=America/New_York:20260414T012000
DTSTART;TZID=America/New_York:20260413T232000
DTSTAMP;TZID=America/New_York:20260413T232000
LOCATION: Fairfax Ice Arena
SUMMARY;LANGUAGE=en-US: vs 
END:VEVENT
BEGIN:VEVENT
UID:1f756f3bebabe2a01c03b0c247d01985
DTEND;TZID=America/New_York:20260427T224000
DTSTART;TZID=America/New_York:20260427T204000
DTSTAMP;TZID=America/New_York:20260427T204000
LOCATION: Fairfax Ice Arena
SUMMARY;LANGUAGE=en-US: vs 
END:VEVENT
BEGIN:VEVENT
UID:552da0b4cf52196f46cc4f0a9955de7d
DTEND;TZID=America/New_York:20260509T013000
DTSTART;TZID=America/New_York:20260508T233000
DTSTAMP;TZID=America/New_York:20260508T233000
LOCATION: Fairfax Ice Arena
SUMMARY;LANGUAGE=en-US: vs 
END:VEVENT
BEGIN:VEVENT
UID:e5da8a3b0035aeaab6d0e1333c6e05bd
DTEND;TZID=America/New_York:20260517T114000
DTSTART;TZID=America/New_York:20260517T094000
DTSTAMP;TZID=America/New_York:20260517T094000
LOCATION: Fairfax Ice Arena
SUMMARY;LANGUAGE=en-US: vs 
END:VEVENT
BEGIN:VEVENT
UID:29d09d7c3e72975b696e9a35342e479e
DTEND;TZID=America/New_York:20260531T001000
DTSTART;TZID=America/New_York:20260530T221000
DTSTAMP;TZID=America/New_York:20260530T221000
LOCATION: Fairfax Ice Arena
SUMMARY;LANGUAGE=en-US: vs 
END:VEVENT
BEGIN:VEVENT
UID:29b1ad0d71f63ecaee2050eba5dc6f13
DTEND;TZID=America/New_York:20260608T224000
DTSTART;TZID=America/New_York:20260608T204000
DTSTAMP;TZID=America/New_York:20260608T204000
LOCATION: Fairfax Ice Arena
SUMMARY;LANGUAGE=en-US: vs 
END:VEVENT
END:VCALENDAR
