BEGIN:VCALENDAR
VERSION:2.0
PRODID:-//Apple Inc.//Mac OS X 10.11.4//EN
CALSCALE:GREGORIAN
BEGIN:VEVENT
UID:90ee3bcfa2c3ff41a044d6605cb03327
DTEND;TZID=America/New_York:20251211T235500
DTSTART;TZID=America/New_York:20251211T215500
DTSTAMP;TZID=America/New_York:20251211T215500
LOCATION: Fairfax Ice Arena
SUMMARY;LANGUAGE=en-US: vs 
END:VEVENT
BEGIN:VEVENT
UID:16113e47e1c999950b2283c405121ac5
DTEND;TZID=America/New_York:20260108T235500
DTSTART;TZID=America/New_York:20260108T215500
DTSTAMP;TZID=America/New_York:20260108T215500
LOCATION: Fairfax Ice Arena
SUMMARY;LANGUAGE=en-US: vs 
END:VEVENT
BEGIN:VEVENT
UID:4f88a3bad814c8214355094c2e152adc
DTEND;TZID=America/New_York:20260205T235500
DTSTART;TZID=America/New_York:20260205T215500
DTSTAMP;TZID=America/New_York:20260205T215500
LOCATION: Fairfax Ice Arena
SUMMARY;LANGUAGE=en-US: vs 
END:VEVENT
BEGIN:VEVENT
UID:0ae38a9afc78c8fd05c4edb748c65373
DTEND;TZID=America/New_York:20260220T011500
DTSTART;TZID=America/New_York:20260219T231500
DTSTAMP;TZID=America/New_York:20260219T231500
LOCATION: Fairfax Ice Arena
SUMMARY;LANGUAGE=en-US: vs 
END:VEVENT
BEGIN:VEVENT
UID:2155b287f397330d6eeef3556fbb3006
DTEND;TZID=America/New_York:20260314T192000
DTSTART;TZID=America/New_York:20260314T172000
DTSTAMP;TZID=America/New_York:20260314T172000
LOCATION: Fairfax Ice Arena
SUMMARY;LANGUAGE=en-US: vs 
END:VEVENT
BEGIN:VEVENT
UID:28ca89d19b33b9338ec90289ada32119
DTEND;TZID=America/New_York:20260404T171000
DTSTART;TZID=America/New_York:20260404T151000
DTSTAMP;TZID=America/New_York:20260404T151000
LOCATION: Fairfax Ice Arena
SUMMARY;LANGUAGE=en-US: vs 
END:VEVENT
BEGIN:VEVENT
UID:4d8f7a668b9cb17a6bd6c03b4dafccf4
DTEND;TZID=America/New_York:20260426T001000
DTSTART;TZID=America/New_York:20260425T221000
DTSTAMP;TZID=America/New_York:20260425T221000
LOCATION: Fairfax Ice Arena
SUMMARY;LANGUAGE=en-US: vs 
END:VEVENT
BEGIN:VEVENT
UID:7b3573159f32ee0d66707da12af6cd5d
DTEND;TZID=America/New_York:20260507T235500
DTSTART;TZID=America/New_York:20260507T215500
DTSTAMP;TZID=America/New_York:20260507T215500
LOCATION: Fairfax Ice Arena
SUMMARY;LANGUAGE=en-US: vs 
END:VEVENT
BEGIN:VEVENT
UID:31152a526ad0e703d452c5cb733898c7
DTEND;TZID=America/New_York:20260516T205000
DTSTART;TZID=America/New_York:20260516T185000
DTSTAMP;TZID=America/New_York:20260516T185000
LOCATION: Fairfax Ice Arena
SUMMARY;LANGUAGE=en-US: vs 
END:VEVENT
BEGIN:VEVENT
UID:1d8e4cd0a1db4ef451a48158b852f516
DTEND;TZID=America/New_York:20260528T235500
DTSTART;TZID=America/New_York:20260528T215500
DTSTAMP;TZID=America/New_York:20260528T215500
LOCATION: Fairfax Ice Arena
SUMMARY;LANGUAGE=en-US: vs 
END:VEVENT
END:VCALENDAR
