BEGIN:VCALENDAR
VERSION:2.0
PRODID:-//Apple Inc.//Mac OS X 10.11.4//EN
CALSCALE:GREGORIAN
BEGIN:VEVENT
UID:2311fe38a2be0b29b1489f8385721980
DTEND;TZID=America/New_York:20240601T001000
DTSTART;TZID=America/New_York:20240531T221000
DTSTAMP;TZID=America/New_York:20240531T221000
LOCATION: Fairfax Ice Arena
SUMMARY;LANGUAGE=en-US: vs 
END:VEVENT
BEGIN:VEVENT
UID:596669c2d9da1233dedc05e3e14709cc
DTEND;TZID=America/New_York:20240606T235500
DTSTART;TZID=America/New_York:20240606T215500
DTSTAMP;TZID=America/New_York:20240606T215500
LOCATION: Fairfax Ice Arena
SUMMARY;LANGUAGE=en-US: vs 
END:VEVENT
BEGIN:VEVENT
UID:d67f6516ef5ff330f9b42de88b099105
DTEND;TZID=America/New_York:20240614T011500
DTSTART;TZID=America/New_York:20240613T231500
DTSTAMP;TZID=America/New_York:20240613T231500
LOCATION: Fairfax Ice Arena
SUMMARY;LANGUAGE=en-US: vs 
END:VEVENT
BEGIN:VEVENT
UID:fad580ed6cecdb4ccd6220e003b06bb7
DTEND;TZID=America/New_York:20240630T210000
DTSTART;TZID=America/New_York:20240630T190000
DTSTAMP;TZID=America/New_York:20240630T190000
LOCATION: Fairfax Ice Arena
SUMMARY;LANGUAGE=en-US: vs 
END:VEVENT
BEGIN:VEVENT
UID:b7b4047acfc7e650020d9916e8b8bc25
DTEND;TZID=America/New_York:20240713T193000
DTSTART;TZID=America/New_York:20240713T173000
DTSTAMP;TZID=America/New_York:20240713T173000
LOCATION: Fairfax Ice Arena
SUMMARY;LANGUAGE=en-US: vs 
END:VEVENT
BEGIN:VEVENT
UID:e9c341f57e7659b5b83ebec6569b33b6
DTEND;TZID=America/New_York:20240721T114000
DTSTART;TZID=America/New_York:20240721T094000
DTSTAMP;TZID=America/New_York:20240721T094000
LOCATION: Fairfax Ice Arena
SUMMARY;LANGUAGE=en-US: vs 
END:VEVENT
BEGIN:VEVENT
UID:5d1e354531f27c627ba586fc88852bf1
DTEND;TZID=America/New_York:20240801T235500
DTSTART;TZID=America/New_York:20240801T215500
DTSTAMP;TZID=America/New_York:20240801T215500
LOCATION: Fairfax Ice Arena
SUMMARY;LANGUAGE=en-US: vs 
END:VEVENT
BEGIN:VEVENT
UID:7ed14ce23a93f6492f202a34b27260cc
DTEND;TZID=America/New_York:20240804T013000
DTSTART;TZID=America/New_York:20240803T233000
DTSTAMP;TZID=America/New_York:20240803T233000
LOCATION: Fairfax Ice Arena
SUMMARY;LANGUAGE=en-US: vs 
END:VEVENT
BEGIN:VEVENT
UID:cc62e889d16ffa2a04f19d087d1d807e
DTEND;TZID=America/New_York:20240812T001000
DTSTART;TZID=America/New_York:20240811T221000
DTSTAMP;TZID=America/New_York:20240811T221000
LOCATION: Fairfax Ice Arena
SUMMARY;LANGUAGE=en-US: vs 
END:VEVENT
BEGIN:VEVENT
UID:80593a0e25fbe7c662ccace695a84afd
DTEND;TZID=America/New_York:20240815T235500
DTSTART;TZID=America/New_York:20240815T215500
DTSTAMP;TZID=America/New_York:20240815T215500
LOCATION: Fairfax Ice Arena
SUMMARY;LANGUAGE=en-US: vs 
END:VEVENT
BEGIN:VEVENT
UID:e8055ee9e6bd6228643b546fa09e1ed1
DTEND;TZID=America/New_York:20240824T210000
DTSTART;TZID=America/New_York:20240824T190000
DTSTAMP;TZID=America/New_York:20240824T190000
LOCATION: Fairfax Ice Arena
SUMMARY;LANGUAGE=en-US: vs 
END:VEVENT
BEGIN:VEVENT
UID:0f5df4ed6a1f5f74bcb9e4c3c56b544a
DTEND;TZID=America/New_York:20240829T011500
DTSTART;TZID=America/New_York:20240828T231500
DTSTAMP;TZID=America/New_York:20240828T231500
LOCATION: Fairfax Ice Arena
SUMMARY;LANGUAGE=en-US: vs 
END:VEVENT
BEGIN:VEVENT
UID:35e3b5e0e2ebfba85bb12bd6278b22cb
DTEND;TZID=America/New_York:20240829T210000
DTSTART;TZID=America/New_York:20240829T190000
DTSTAMP;TZID=America/New_York:20240829T190000
LOCATION: Fairfax Ice Arena
SUMMARY;LANGUAGE=en-US: vs 
END:VEVENT
BEGIN:VEVENT
UID:92e6ed24cd9378922e0617fd589a67ea
DTEND;TZID=America/New_York:20240906T011500
DTSTART;TZID=America/New_York:20240905T231500
DTSTAMP;TZID=America/New_York:20240905T231500
LOCATION: Fairfax Ice Arena
SUMMARY;LANGUAGE=en-US: vs 
END:VEVENT
BEGIN:VEVENT
UID:32472a970c848fe16d81440f04294904
DTEND;TZID=America/New_York:20240919T235500
DTSTART;TZID=America/New_York:20240919T215500
DTSTAMP;TZID=America/New_York:20240919T215500
LOCATION: Fairfax Ice Arena
SUMMARY;LANGUAGE=en-US: vs 
END:VEVENT
BEGIN:VEVENT
UID:78018067cb694447827c28ae6b7eeb15
DTEND;TZID=America/New_York:20240926T235500
DTSTART;TZID=America/New_York:20240926T215500
DTSTAMP;TZID=America/New_York:20240926T215500
LOCATION: Fairfax Ice Arena
SUMMARY;LANGUAGE=en-US: vs 
END:VEVENT
BEGIN:VEVENT
UID:cecb7f39e1576b0b803375f1ceea934f
DTEND;TZID=America/New_York:20240929T102000
DTSTART;TZID=America/New_York:20240929T082000
DTSTAMP;TZID=America/New_York:20240929T082000
LOCATION: Fairfax Ice Arena
SUMMARY;LANGUAGE=en-US: vs 
END:VEVENT
BEGIN:VEVENT
UID:45b79d13202fd266f309b6c5d72aee41
DTEND;TZID=America/New_York:20241007T010000
DTSTART;TZID=America/New_York:20241006T230000
DTSTAMP;TZID=America/New_York:20241006T230000
LOCATION: Fairfax Ice Arena
SUMMARY;LANGUAGE=en-US: vs 
END:VEVENT
BEGIN:VEVENT
UID:7af9820b644ddb9105c9090d540e0fc9
DTEND;TZID=America/New_York:20241013T114000
DTSTART;TZID=America/New_York:20241013T094000
DTSTAMP;TZID=America/New_York:20241013T094000
LOCATION: Fairfax Ice Arena
SUMMARY;LANGUAGE=en-US: vs 
END:VEVENT
BEGIN:VEVENT
UID:b2765274866e900027ddf5f739db1372
DTEND;TZID=America/New_York:20241026T195000
DTSTART;TZID=America/New_York:20241026T175000
DTSTAMP;TZID=America/New_York:20241026T175000
LOCATION: Fairfax Ice Arena
SUMMARY;LANGUAGE=en-US: vs 
END:VEVENT
END:VCALENDAR
