BEGIN:VCALENDAR
VERSION:2.0
PRODID:-//Apple Inc.//Mac OS X 10.11.4//EN
CALSCALE:GREGORIAN
BEGIN:VEVENT
UID:58e561d68600d92b3cd1bedb8b3346d6
DTEND;TZID=America/New_York:20240526T235000
DTSTART;TZID=America/New_York:20240526T215000
DTSTAMP;TZID=America/New_York:20240526T215000
LOCATION: Fairfax Ice Arena
SUMMARY;LANGUAGE=en-US: vs 
END:VEVENT
BEGIN:VEVENT
UID:596669c2d9da1233dedc05e3e14709cc
DTEND;TZID=America/New_York:20240606T235500
DTSTART;TZID=America/New_York:20240606T215500
DTSTAMP;TZID=America/New_York:20240606T215500
LOCATION: Fairfax Ice Arena
SUMMARY;LANGUAGE=en-US: vs 
END:VEVENT
BEGIN:VEVENT
UID:72a1435216c6078a9e8b83374682628c
DTEND;TZID=America/New_York:20240623T221000
DTSTART;TZID=America/New_York:20240623T201000
DTSTAMP;TZID=America/New_York:20240623T201000
LOCATION: Fairfax Ice Arena
SUMMARY;LANGUAGE=en-US: vs 
END:VEVENT
BEGIN:VEVENT
UID:bb5d84334a6dcdc5cbec930ec6b6a127
DTEND;TZID=America/New_York:20240706T090000
DTSTART;TZID=America/New_York:20240706T070000
DTSTAMP;TZID=America/New_York:20240706T070000
LOCATION: Fairfax Ice Arena
SUMMARY;LANGUAGE=en-US: vs 
END:VEVENT
BEGIN:VEVENT
UID:b7b4047acfc7e650020d9916e8b8bc25
DTEND;TZID=America/New_York:20240713T193000
DTSTART;TZID=America/New_York:20240713T173000
DTSTAMP;TZID=America/New_York:20240713T173000
LOCATION: Fairfax Ice Arena
SUMMARY;LANGUAGE=en-US: vs 
END:VEVENT
BEGIN:VEVENT
UID:9b1976a30e878da8fdfff8d928195168
DTEND;TZID=America/New_York:20240718T235500
DTSTART;TZID=America/New_York:20240718T215500
DTSTAMP;TZID=America/New_York:20240718T215500
LOCATION: Fairfax Ice Arena
SUMMARY;LANGUAGE=en-US: vs 
END:VEVENT
BEGIN:VEVENT
UID:eb7406ebd33c6037cf2cfd896dbbcf57
DTEND;TZID=America/New_York:20240727T193000
DTSTART;TZID=America/New_York:20240727T173000
DTSTAMP;TZID=America/New_York:20240727T173000
LOCATION: Fairfax Ice Arena
SUMMARY;LANGUAGE=en-US: vs 
END:VEVENT
BEGIN:VEVENT
UID:a32dbd393bd2ecbe0c3c9fdd99fb84d5
DTEND;TZID=America/New_York:20240804T090000
DTSTART;TZID=America/New_York:20240804T070000
DTSTAMP;TZID=America/New_York:20240804T070000
LOCATION: Fairfax Ice Arena
SUMMARY;LANGUAGE=en-US: vs 
END:VEVENT
BEGIN:VEVENT
UID:cc62e889d16ffa2a04f19d087d1d807e
DTEND;TZID=America/New_York:20240812T001000
DTSTART;TZID=America/New_York:20240811T221000
DTSTAMP;TZID=America/New_York:20240811T221000
LOCATION: Fairfax Ice Arena
SUMMARY;LANGUAGE=en-US: vs 
END:VEVENT
BEGIN:VEVENT
UID:f1ae74ecd4b8789004648bf36e92ed85
DTEND;TZID=America/New_York:20240815T210000
DTSTART;TZID=America/New_York:20240815T190000
DTSTAMP;TZID=America/New_York:20240815T190000
LOCATION: Fairfax Ice Arena
SUMMARY;LANGUAGE=en-US: vs 
END:VEVENT
BEGIN:VEVENT
UID:8708cd2b5038994f4d9f49f4adc37258
DTEND;TZID=America/New_York:20240818T184000
DTSTART;TZID=America/New_York:20240818T164000
DTSTAMP;TZID=America/New_York:20240818T164000
LOCATION: Fairfax Ice Arena
SUMMARY;LANGUAGE=en-US: vs 
END:VEVENT
BEGIN:VEVENT
UID:dbcbf47706a759f5b74e207016dd65c5
DTEND;TZID=America/New_York:20240829T235500
DTSTART;TZID=America/New_York:20240829T215500
DTSTAMP;TZID=America/New_York:20240829T215500
LOCATION: Fairfax Ice Arena
SUMMARY;LANGUAGE=en-US: vs 
END:VEVENT
BEGIN:VEVENT
UID:92e6ed24cd9378922e0617fd589a67ea
DTEND;TZID=America/New_York:20240906T011500
DTSTART;TZID=America/New_York:20240905T231500
DTSTAMP;TZID=America/New_York:20240905T231500
LOCATION: Fairfax Ice Arena
SUMMARY;LANGUAGE=en-US: vs 
END:VEVENT
BEGIN:VEVENT
UID:321e0d40885025542a3ede0b5feeba6a
DTEND;TZID=America/New_York:20240912T235500
DTSTART;TZID=America/New_York:20240912T215500
DTSTAMP;TZID=America/New_York:20240912T215500
LOCATION: Fairfax Ice Arena
SUMMARY;LANGUAGE=en-US: vs 
END:VEVENT
BEGIN:VEVENT
UID:4212aace9026c77ba717ff29bceaf6ac
DTEND;TZID=America/New_York:20240919T011500
DTSTART;TZID=America/New_York:20240918T231500
DTSTAMP;TZID=America/New_York:20240918T231500
LOCATION: Fairfax Ice Arena
SUMMARY;LANGUAGE=en-US: vs 
END:VEVENT
BEGIN:VEVENT
UID:4d290f230c4733f1da01211cd3c9e70c
DTEND;TZID=America/New_York:20240921T193000
DTSTART;TZID=America/New_York:20240921T173000
DTSTAMP;TZID=America/New_York:20240921T173000
LOCATION: Fairfax Ice Arena
SUMMARY;LANGUAGE=en-US: vs 
END:VEVENT
BEGIN:VEVENT
UID:bcc7845cfb9688f2908e237eaacaae80
DTEND;TZID=America/New_York:20240929T114000
DTSTART;TZID=America/New_York:20240929T094000
DTSTAMP;TZID=America/New_York:20240929T094000
LOCATION: Fairfax Ice Arena
SUMMARY;LANGUAGE=en-US: vs 
END:VEVENT
BEGIN:VEVENT
UID:45b79d13202fd266f309b6c5d72aee41
DTEND;TZID=America/New_York:20241007T010000
DTSTART;TZID=America/New_York:20241006T230000
DTSTAMP;TZID=America/New_York:20241006T230000
LOCATION: Fairfax Ice Arena
SUMMARY;LANGUAGE=en-US: vs 
END:VEVENT
BEGIN:VEVENT
UID:87b9e88de6358241b831889c3121fdf7
DTEND;TZID=America/New_York:20241010T235500
DTSTART;TZID=America/New_York:20241010T215500
DTSTAMP;TZID=America/New_York:20241010T215500
LOCATION: Fairfax Ice Arena
SUMMARY;LANGUAGE=en-US: vs 
END:VEVENT
BEGIN:VEVENT
UID:f1cb34005a405d3e5ffc6b2ddca8c5a7
DTEND;TZID=America/New_York:20241013T102000
DTSTART;TZID=America/New_York:20241013T082000
DTSTAMP;TZID=America/New_York:20241013T082000
LOCATION: Fairfax Ice Arena
SUMMARY;LANGUAGE=en-US: vs 
END:VEVENT
END:VCALENDAR
