BEGIN:VCALENDAR
VERSION:2.0
PRODID:-//Apple Inc.//Mac OS X 10.11.4//EN
CALSCALE:GREGORIAN
BEGIN:VEVENT
UID:8c52579219cdadb8bfb30bcd02302ac0
DTEND;TZID=America/New_York:20231102T235500
DTSTART;TZID=America/New_York:20231102T215500
DTSTAMP;TZID=America/New_York:20231102T215500
LOCATION: Fairfax Ice Arena
SUMMARY;LANGUAGE=en-US: vs 
END:VEVENT
BEGIN:VEVENT
UID:06604f1ab00d28e78bcec58fb4d0a7f2
DTEND;TZID=America/New_York:20231110T011500
DTSTART;TZID=America/New_York:20231109T231500
DTSTAMP;TZID=America/New_York:20231109T231500
LOCATION: Fairfax Ice Arena
SUMMARY;LANGUAGE=en-US: vs 
END:VEVENT
BEGIN:VEVENT
UID:204d201008d92283248b0dd5e28493bf
DTEND;TZID=America/New_York:20231118T004000
DTSTART;TZID=America/New_York:20231117T224000
DTSTAMP;TZID=America/New_York:20231117T224000
LOCATION: Fairfax Ice Arena
SUMMARY;LANGUAGE=en-US: vs 
END:VEVENT
BEGIN:VEVENT
UID:1f8c198d19da5574f0f66f298ee0c7ab
DTEND;TZID=America/New_York:20231126T205000
DTSTART;TZID=America/New_York:20231126T185000
DTSTAMP;TZID=America/New_York:20231126T185000
LOCATION: Fairfax Ice Arena
SUMMARY;LANGUAGE=en-US: vs 
END:VEVENT
BEGIN:VEVENT
UID:eb3d693b657146f8e3e9c325fc0545a7
DTEND;TZID=America/New_York:20231203T114000
DTSTART;TZID=America/New_York:20231203T094000
DTSTAMP;TZID=America/New_York:20231203T094000
LOCATION: Fairfax Ice Arena
SUMMARY;LANGUAGE=en-US: vs 
END:VEVENT
BEGIN:VEVENT
UID:1557cb3d8a0ffbc1a8977b7ef10bcc5a
DTEND;TZID=America/New_York:20231207T235500
DTSTART;TZID=America/New_York:20231207T215500
DTSTAMP;TZID=America/New_York:20231207T215500
LOCATION: Fairfax Ice Arena
SUMMARY;LANGUAGE=en-US: vs 
END:VEVENT
BEGIN:VEVENT
UID:4713d321cf3c3f160f3ee3b8c616635b
DTEND;TZID=America/New_York:20231215T011500
DTSTART;TZID=America/New_York:20231214T231500
DTSTAMP;TZID=America/New_York:20231214T231500
LOCATION: Fairfax Ice Arena
SUMMARY;LANGUAGE=en-US: vs 
END:VEVENT
BEGIN:VEVENT
UID:69f1263710af41e6c196862bce496877
DTEND;TZID=America/New_York:20231230T102000
DTSTART;TZID=America/New_York:20231230T082000
DTSTAMP;TZID=America/New_York:20231230T082000
LOCATION: Fairfax Ice Arena
SUMMARY;LANGUAGE=en-US: vs 
END:VEVENT
BEGIN:VEVENT
UID:61e62c7892572f5df222bf1afd1406c2
DTEND;TZID=America/New_York:20240106T091500
DTSTART;TZID=America/New_York:20240106T071500
DTSTAMP;TZID=America/New_York:20240106T071500
LOCATION: Fairfax Ice Arena
SUMMARY;LANGUAGE=en-US: vs 
END:VEVENT
BEGIN:VEVENT
UID:8f01625ec415609fa3e9a14ce51984f0
DTEND;TZID=America/New_York:20240125T235500
DTSTART;TZID=America/New_York:20240125T215500
DTSTAMP;TZID=America/New_York:20240125T215500
LOCATION: Fairfax Ice Arena
SUMMARY;LANGUAGE=en-US: vs 
END:VEVENT
BEGIN:VEVENT
UID:a393c55d7370cf4ae0da7b1b825e6841
DTEND;TZID=America/New_York:20240201T235500
DTSTART;TZID=America/New_York:20240201T215500
DTSTAMP;TZID=America/New_York:20240201T215500
LOCATION: Fairfax Ice Arena
SUMMARY;LANGUAGE=en-US: vs 
END:VEVENT
BEGIN:VEVENT
UID:882581b6e3fe99eabc387a42e40b35a8
DTEND;TZID=America/New_York:20240209T011500
DTSTART;TZID=America/New_York:20240208T231500
DTSTAMP;TZID=America/New_York:20240208T231500
LOCATION: Fairfax Ice Arena
SUMMARY;LANGUAGE=en-US: vs 
END:VEVENT
BEGIN:VEVENT
UID:71c97adec88f85266acc1cd05d5cbc1d
DTEND;TZID=America/New_York:20240218T114000
DTSTART;TZID=America/New_York:20240218T094000
DTSTAMP;TZID=America/New_York:20240218T094000
LOCATION: Fairfax Ice Arena
SUMMARY;LANGUAGE=en-US: vs 
END:VEVENT
BEGIN:VEVENT
UID:76ef3ce5c5ea9b225d1775df6963146d
DTEND;TZID=America/New_York:20240223T011500
DTSTART;TZID=America/New_York:20240222T231500
DTSTAMP;TZID=America/New_York:20240222T231500
LOCATION: Fairfax Ice Arena
SUMMARY;LANGUAGE=en-US: vs 
END:VEVENT
BEGIN:VEVENT
UID:a144d8778758db726e5ef3af84af436b
DTEND;TZID=America/New_York:20240307T235500
DTSTART;TZID=America/New_York:20240307T215500
DTSTAMP;TZID=America/New_York:20240307T215500
LOCATION: Fairfax Ice Arena
SUMMARY;LANGUAGE=en-US: vs 
END:VEVENT
BEGIN:VEVENT
UID:142b3900f49015122910edc28f78465d
DTEND;TZID=America/New_York:20240317T225500
DTSTART;TZID=America/New_York:20240317T205500
DTSTAMP;TZID=America/New_York:20240317T205500
LOCATION: Fairfax Ice Arena
SUMMARY;LANGUAGE=en-US: vs 
END:VEVENT
BEGIN:VEVENT
UID:f9e66d4537f46123f20316698b5ea946
DTEND;TZID=America/New_York:20240321T011500
DTSTART;TZID=America/New_York:20240320T231500
DTSTAMP;TZID=America/New_York:20240320T231500
LOCATION: Fairfax Ice Arena
SUMMARY;LANGUAGE=en-US: vs 
END:VEVENT
BEGIN:VEVENT
UID:4547ff947acfbe391e0b835d73ec6f57
DTEND;TZID=America/New_York:20240324T213500
DTSTART;TZID=America/New_York:20240324T193500
DTSTAMP;TZID=America/New_York:20240324T193500
LOCATION: Fairfax Ice Arena
SUMMARY;LANGUAGE=en-US: vs 
END:VEVENT
BEGIN:VEVENT
UID:c6f632ef23175b5b2ab7919cb12e8657
DTEND;TZID=America/New_York:20240406T171000
DTSTART;TZID=America/New_York:20240406T151000
DTSTAMP;TZID=America/New_York:20240406T151000
LOCATION: Fairfax Ice Arena
SUMMARY;LANGUAGE=en-US: vs 
END:VEVENT
BEGIN:VEVENT
UID:3529e1c7e7e2bd8611883ae9e49ff231
DTEND;TZID=America/New_York:20240418T235500
DTSTART;TZID=America/New_York:20240418T215500
DTSTAMP;TZID=America/New_York:20240418T215500
LOCATION: Fairfax Ice Arena
SUMMARY;LANGUAGE=en-US: vs 
END:VEVENT
END:VCALENDAR
