BEGIN:VCALENDAR
VERSION:2.0
PRODID:-//Apple Inc.//Mac OS X 10.11.4//EN
CALSCALE:GREGORIAN
BEGIN:VEVENT
UID:1ebd6b67dbfeff5b843746b85225aee8
DTEND;TZID=America/New_York:20191013T013000
DTSTART;TZID=America/New_York:20191012T233000
DTSTAMP;TZID=America/New_York:20191012T233000
LOCATION: Fairfax Ice Arena
SUMMARY;LANGUAGE=en-US: vs 
END:VEVENT
BEGIN:VEVENT
UID:021d062fd598083703b50a78ea7c81c8
DTEND;TZID=America/New_York:20191019T090000
DTSTART;TZID=America/New_York:20191019T070000
DTSTAMP;TZID=America/New_York:20191019T070000
LOCATION: Fairfax Ice Arena
SUMMARY;LANGUAGE=en-US: vs 
END:VEVENT
BEGIN:VEVENT
UID:981d5a073b82e4494f0c09858ee54697
DTEND;TZID=America/New_York:20191021T005000
DTSTART;TZID=America/New_York:20191020T225000
DTSTAMP;TZID=America/New_York:20191020T225000
LOCATION: Fairfax Ice Arena
SUMMARY;LANGUAGE=en-US: vs 
END:VEVENT
BEGIN:VEVENT
UID:8266c6ed20a04fee69db2a5816ad3aca
DTEND;TZID=America/New_York:20191027T233000
DTSTART;TZID=America/New_York:20191027T213000
DTSTAMP;TZID=America/New_York:20191027T213000
LOCATION: Fairfax Ice Arena
SUMMARY;LANGUAGE=en-US: vs 
END:VEVENT
BEGIN:VEVENT
UID:f775658177193c15a4f5686c7fd27be9
DTEND;TZID=America/New_York:20191102T091500
DTSTART;TZID=America/New_York:20191102T071500
DTSTAMP;TZID=America/New_York:20191102T071500
LOCATION: Fairfax Ice Arena
SUMMARY;LANGUAGE=en-US: vs 
END:VEVENT
BEGIN:VEVENT
UID:4182f641f7b810b418e66cdcfab26728
DTEND;TZID=America/New_York:20191109T015500
DTSTART;TZID=America/New_York:20191108T235500
DTSTAMP;TZID=America/New_York:20191108T235500
LOCATION: Fairfax Ice Arena
SUMMARY;LANGUAGE=en-US: vs 
END:VEVENT
BEGIN:VEVENT
UID:aa330f6725b66aafbd7082b8ce43ae26
DTEND;TZID=America/New_York:20191124T004000
DTSTART;TZID=America/New_York:20191123T224000
DTSTAMP;TZID=America/New_York:20191123T224000
LOCATION: Fairfax Ice Arena
SUMMARY;LANGUAGE=en-US: vs 
END:VEVENT
BEGIN:VEVENT
UID:a2726692692c62e2032b115853710dee
DTEND;TZID=America/New_York:20191130T180000
DTSTART;TZID=America/New_York:20191130T160000
DTSTAMP;TZID=America/New_York:20191130T160000
LOCATION: Fairfax Ice Arena
SUMMARY;LANGUAGE=en-US: vs 
END:VEVENT
BEGIN:VEVENT
UID:bc999dc7468294823dcb2d60a5cc8c5d
DTEND;TZID=America/New_York:20191207T192000
DTSTART;TZID=America/New_York:20191207T172000
DTSTAMP;TZID=America/New_York:20191207T172000
LOCATION: Fairfax Ice Arena
SUMMARY;LANGUAGE=en-US: vs 
END:VEVENT
BEGIN:VEVENT
UID:ad7772e3650c69f547055ccac5ca590d
DTEND;TZID=America/New_York:20191221T204000
DTSTART;TZID=America/New_York:20191221T184000
DTSTAMP;TZID=America/New_York:20191221T184000
LOCATION: Fairfax Ice Arena
SUMMARY;LANGUAGE=en-US: vs 
END:VEVENT
BEGIN:VEVENT
UID:348bfe976bc4d989c9113406fb110f20
DTEND;TZID=America/New_York:20191229T200000
DTSTART;TZID=America/New_York:20191229T180000
DTSTAMP;TZID=America/New_York:20191229T180000
LOCATION: Fairfax Ice Arena
SUMMARY;LANGUAGE=en-US: vs 
END:VEVENT
BEGIN:VEVENT
UID:c1ffbfd43c0c7f46496525e9f5abdb7b
DTEND;TZID=America/New_York:20200111T015500
DTSTART;TZID=America/New_York:20200110T235500
DTSTAMP;TZID=America/New_York:20200110T235500
LOCATION: Fairfax Ice Arena
SUMMARY;LANGUAGE=en-US: vs 
END:VEVENT
BEGIN:VEVENT
UID:d3e4d337b7a68d1027ba11971e7c524a
DTEND;TZID=America/New_York:20200113T000000
DTSTART;TZID=America/New_York:20200112T220000
DTSTAMP;TZID=America/New_York:20200112T220000
LOCATION: Fairfax Ice Arena
SUMMARY;LANGUAGE=en-US: vs 
END:VEVENT
BEGIN:VEVENT
UID:b11f66d21d2bba2fbaf010d7e85305be
DTEND;TZID=America/New_York:20200119T004000
DTSTART;TZID=America/New_York:20200118T224000
DTSTAMP;TZID=America/New_York:20200118T224000
LOCATION: Fairfax Ice Arena
SUMMARY;LANGUAGE=en-US: vs 
END:VEVENT
BEGIN:VEVENT
UID:e7b5bde2d60e8f28c0a7834752c363af
DTEND;TZID=America/New_York:20200126T015500
DTSTART;TZID=America/New_York:20200125T235500
DTSTAMP;TZID=America/New_York:20200125T235500
LOCATION: Fairfax Ice Arena
SUMMARY;LANGUAGE=en-US: vs 
END:VEVENT
BEGIN:VEVENT
UID:b1b32a1047ce74eb9e1af1968ee8a3c5
DTEND;TZID=America/New_York:20200210T011500
DTSTART;TZID=America/New_York:20200209T231500
DTSTAMP;TZID=America/New_York:20200209T231500
LOCATION: Fairfax Ice Arena
SUMMARY;LANGUAGE=en-US: vs 
END:VEVENT
BEGIN:VEVENT
UID:29a10e8d59d4e7beb635fcd44afdacb9
DTEND;TZID=America/New_York:20200216T190000
DTSTART;TZID=America/New_York:20200216T170000
DTSTAMP;TZID=America/New_York:20200216T170000
LOCATION: Fairfax Ice Arena
SUMMARY;LANGUAGE=en-US: vs 
END:VEVENT
BEGIN:VEVENT
UID:9e6c5ebee4ec7361a03b8621d317f6c0
DTEND;TZID=America/New_York:20200223T004000
DTSTART;TZID=America/New_York:20200222T224000
DTSTAMP;TZID=America/New_York:20200222T224000
LOCATION: Fairfax Ice Arena
SUMMARY;LANGUAGE=en-US: vs 
END:VEVENT
BEGIN:VEVENT
UID:fe3fce5f67f443e5de15cc83a1de4ff4
DTEND;TZID=America/New_York:20200302T011500
DTSTART;TZID=America/New_York:20200301T231500
DTSTAMP;TZID=America/New_York:20200301T231500
LOCATION: Fairfax Ice Arena
SUMMARY;LANGUAGE=en-US: vs 
END:VEVENT
BEGIN:VEVENT
UID:a8c72cef3f0f64f1c7150824f3e4353f
DTEND;TZID=America/New_York:20200308T190000
DTSTART;TZID=America/New_York:20200308T170000
DTSTAMP;TZID=America/New_York:20200308T170000
LOCATION: Fairfax Ice Arena
SUMMARY;LANGUAGE=en-US: vs 
END:VEVENT
END:VCALENDAR
