BEGIN:VCALENDAR
VERSION:2.0
PRODID:-//Apple Inc.//Mac OS X 10.11.4//EN
CALSCALE:GREGORIAN
BEGIN:VEVENT
UID:63418ca29686674b43392d9fb3046c32
DTEND;TZID=America/New_York:20191014T223500
DTSTART;TZID=America/New_York:20191014T203500
DTSTAMP;TZID=America/New_York:20191014T203500
LOCATION: Fairfax Ice Arena
SUMMARY;LANGUAGE=en-US: vs 
END:VEVENT
BEGIN:VEVENT
UID:6c7afa3ff590532eaa726b6957196f78
DTEND;TZID=America/New_York:20191020T090000
DTSTART;TZID=America/New_York:20191020T070000
DTSTAMP;TZID=America/New_York:20191020T070000
LOCATION: Fairfax Ice Arena
SUMMARY;LANGUAGE=en-US: vs 
END:VEVENT
BEGIN:VEVENT
UID:502e3fc0b1eccaf40deecafc101e44a0
DTEND;TZID=America/New_York:20191021T235500
DTSTART;TZID=America/New_York:20191021T215500
DTSTAMP;TZID=America/New_York:20191021T215500
LOCATION: Fairfax Ice Arena
SUMMARY;LANGUAGE=en-US: vs 
END:VEVENT
BEGIN:VEVENT
UID:59e80e86a65c44544b5763573649ca13
DTEND;TZID=America/New_York:20191028T235500
DTSTART;TZID=America/New_York:20191028T215500
DTSTAMP;TZID=America/New_York:20191028T215500
LOCATION: Fairfax Ice Arena
SUMMARY;LANGUAGE=en-US: vs 
END:VEVENT
BEGIN:VEVENT
UID:2d7df9540b149ff6156388b3c3ee343f
DTEND;TZID=America/New_York:20191103T201500
DTSTART;TZID=America/New_York:20191103T181500
DTSTAMP;TZID=America/New_York:20191103T181500
LOCATION: Fairfax Ice Arena
SUMMARY;LANGUAGE=en-US: vs 
END:VEVENT
BEGIN:VEVENT
UID:7119b76949e2eda36d54a045bb5ae252
DTEND;TZID=America/New_York:20191111T000000
DTSTART;TZID=America/New_York:20191110T220000
DTSTAMP;TZID=America/New_York:20191110T220000
LOCATION: Fairfax Ice Arena
SUMMARY;LANGUAGE=en-US: vs 
END:VEVENT
BEGIN:VEVENT
UID:72c4cbe3d11fe2f57a08bd3801555aa4
DTEND;TZID=America/New_York:20191118T000000
DTSTART;TZID=America/New_York:20191117T220000
DTSTAMP;TZID=America/New_York:20191117T220000
LOCATION: Fairfax Ice Arena
SUMMARY;LANGUAGE=en-US: vs 
END:VEVENT
BEGIN:VEVENT
UID:39c2ea6722a41df66ebb51272afbb874
DTEND;TZID=America/New_York:20191125T000000
DTSTART;TZID=America/New_York:20191124T220000
DTSTAMP;TZID=America/New_York:20191124T220000
LOCATION: Fairfax Ice Arena
SUMMARY;LANGUAGE=en-US: vs 
END:VEVENT
BEGIN:VEVENT
UID:db36587e14eff544610573ca2014f6a3
DTEND;TZID=America/New_York:20191203T011500
DTSTART;TZID=America/New_York:20191202T231500
DTSTAMP;TZID=America/New_York:20191202T231500
LOCATION: Fairfax Ice Arena
SUMMARY;LANGUAGE=en-US: vs 
END:VEVENT
BEGIN:VEVENT
UID:0e76295cfb3041525be1fb75ff4bc684
DTEND;TZID=America/New_York:20191207T091500
DTSTART;TZID=America/New_York:20191207T071500
DTSTAMP;TZID=America/New_York:20191207T071500
LOCATION: Fairfax Ice Arena
SUMMARY;LANGUAGE=en-US: vs 
END:VEVENT
BEGIN:VEVENT
UID:37222b8992b53ca8946cfe085d970526
DTEND;TZID=America/New_York:20191215T004000
DTSTART;TZID=America/New_York:20191214T224000
DTSTAMP;TZID=America/New_York:20191214T224000
LOCATION: Fairfax Ice Arena
SUMMARY;LANGUAGE=en-US: vs 
END:VEVENT
BEGIN:VEVENT
UID:b72adbb093e098be3127fa519bc9602a
DTEND;TZID=America/New_York:20191229T114000
DTSTART;TZID=America/New_York:20191229T094000
DTSTAMP;TZID=America/New_York:20191229T094000
LOCATION: Fairfax Ice Arena
SUMMARY;LANGUAGE=en-US: vs 
END:VEVENT
BEGIN:VEVENT
UID:bf24d7a654ef8131949e6328d086e425
DTEND;TZID=America/New_York:20200112T004000
DTSTART;TZID=America/New_York:20200111T224000
DTSTAMP;TZID=America/New_York:20200111T224000
LOCATION: Fairfax Ice Arena
SUMMARY;LANGUAGE=en-US: vs 
END:VEVENT
BEGIN:VEVENT
UID:b8e0e0eac76176a7ff98735a3378f022
DTEND;TZID=America/New_York:20200125T091500
DTSTART;TZID=America/New_York:20200125T071500
DTSTAMP;TZID=America/New_York:20200125T071500
LOCATION: Fairfax Ice Arena
SUMMARY;LANGUAGE=en-US: vs 
END:VEVENT
BEGIN:VEVENT
UID:3bd7fbc2f0eab1c0d4219b821c1c4392
DTEND;TZID=America/New_York:20200202T190000
DTSTART;TZID=America/New_York:20200202T170000
DTSTAMP;TZID=America/New_York:20200202T170000
LOCATION: Fairfax Ice Arena
SUMMARY;LANGUAGE=en-US: vs 
END:VEVENT
BEGIN:VEVENT
UID:57ee5b94202e5219a32fd186ee3c4821
DTEND;TZID=America/New_York:20200211T011500
DTSTART;TZID=America/New_York:20200210T231500
DTSTAMP;TZID=America/New_York:20200210T231500
LOCATION: Fairfax Ice Arena
SUMMARY;LANGUAGE=en-US: vs 
END:VEVENT
BEGIN:VEVENT
UID:fea6d31f4abfb20363eef23ff4f0e3f5
DTEND;TZID=America/New_York:20200222T204000
DTSTART;TZID=America/New_York:20200222T184000
DTSTAMP;TZID=America/New_York:20200222T184000
LOCATION: Fairfax Ice Arena
SUMMARY;LANGUAGE=en-US: vs 
END:VEVENT
BEGIN:VEVENT
UID:8679d9d9bb7608372c0215f14e6b718d
DTEND;TZID=America/New_York:20200302T223500
DTSTART;TZID=America/New_York:20200302T203500
DTSTAMP;TZID=America/New_York:20200302T203500
LOCATION: Fairfax Ice Arena
SUMMARY;LANGUAGE=en-US: vs 
END:VEVENT
BEGIN:VEVENT
UID:5807faca289e2d2768b853f231effdab
DTEND;TZID=America/New_York:20200308T102000
DTSTART;TZID=America/New_York:20200308T082000
DTSTAMP;TZID=America/New_York:20200308T082000
LOCATION: Fairfax Ice Arena
SUMMARY;LANGUAGE=en-US: vs 
END:VEVENT
BEGIN:VEVENT
UID:8d9f7d7b9be2899d540a251ffed23462
DTEND;TZID=America/New_York:20200310T011500
DTSTART;TZID=America/New_York:20200309T231500
DTSTAMP;TZID=America/New_York:20200309T231500
LOCATION: Fairfax Ice Arena
SUMMARY;LANGUAGE=en-US: vs 
END:VEVENT
END:VCALENDAR
