BEGIN:VCALENDAR
VERSION:2.0
PRODID:-//Apple Inc.//Mac OS X 10.11.4//EN
CALSCALE:GREGORIAN
BEGIN:VEVENT
UID:c88c08de3c951f631ffbceb710c5f04d
DTEND;TZID=America/New_York:20191014T005000
DTSTART;TZID=America/New_York:20191013T225000
DTSTAMP;TZID=America/New_York:20191013T225000
LOCATION: Fairfax Ice Arena
SUMMARY;LANGUAGE=en-US: vs 
END:VEVENT
BEGIN:VEVENT
UID:6c7afa3ff590532eaa726b6957196f78
DTEND;TZID=America/New_York:20191020T090000
DTSTART;TZID=America/New_York:20191020T070000
DTSTAMP;TZID=America/New_York:20191020T070000
LOCATION: Fairfax Ice Arena
SUMMARY;LANGUAGE=en-US: vs 
END:VEVENT
BEGIN:VEVENT
UID:502e3fc0b1eccaf40deecafc101e44a0
DTEND;TZID=America/New_York:20191021T235500
DTSTART;TZID=America/New_York:20191021T215500
DTSTAMP;TZID=America/New_York:20191021T215500
LOCATION: Fairfax Ice Arena
SUMMARY;LANGUAGE=en-US: vs 
END:VEVENT
BEGIN:VEVENT
UID:1ba8c2837eae7cd21c783416d602e315
DTEND;TZID=America/New_York:20191027T181000
DTSTART;TZID=America/New_York:20191027T161000
DTSTAMP;TZID=America/New_York:20191027T161000
LOCATION: Fairfax Ice Arena
SUMMARY;LANGUAGE=en-US: vs 
END:VEVENT
BEGIN:VEVENT
UID:20b9a3991536881becefa3072196012d
DTEND;TZID=America/New_York:20191104T235500
DTSTART;TZID=America/New_York:20191104T215500
DTSTAMP;TZID=America/New_York:20191104T215500
LOCATION: Fairfax Ice Arena
SUMMARY;LANGUAGE=en-US: vs 
END:VEVENT
BEGIN:VEVENT
UID:85f47839529090b5da576895b2991a22
DTEND;TZID=America/New_York:20191110T224500
DTSTART;TZID=America/New_York:20191110T204500
DTSTAMP;TZID=America/New_York:20191110T204500
LOCATION: Fairfax Ice Arena
SUMMARY;LANGUAGE=en-US: vs 
END:VEVENT
BEGIN:VEVENT
UID:374913f15e16c6428c350fd1a76550fd
DTEND;TZID=America/New_York:20191117T224500
DTSTART;TZID=America/New_York:20191117T204500
DTSTAMP;TZID=America/New_York:20191117T204500
LOCATION: Fairfax Ice Arena
SUMMARY;LANGUAGE=en-US: vs 
END:VEVENT
BEGIN:VEVENT
UID:39c2ea6722a41df66ebb51272afbb874
DTEND;TZID=America/New_York:20191125T000000
DTSTART;TZID=America/New_York:20191124T220000
DTSTAMP;TZID=America/New_York:20191124T220000
LOCATION: Fairfax Ice Arena
SUMMARY;LANGUAGE=en-US: vs 
END:VEVENT
BEGIN:VEVENT
UID:9e70e75843ba8857f2fdc177f44ae193
DTEND;TZID=America/New_York:20191202T235500
DTSTART;TZID=America/New_York:20191202T215500
DTSTAMP;TZID=America/New_York:20191202T215500
LOCATION: Fairfax Ice Arena
SUMMARY;LANGUAGE=en-US: vs 
END:VEVENT
BEGIN:VEVENT
UID:993c8e3104c6e7b5c840d6f0387a325d
DTEND;TZID=America/New_York:20191208T090000
DTSTART;TZID=America/New_York:20191208T070000
DTSTAMP;TZID=America/New_York:20191208T070000
LOCATION: Fairfax Ice Arena
SUMMARY;LANGUAGE=en-US: vs 
END:VEVENT
BEGIN:VEVENT
UID:ebdc795782b50f74cd106be880eb129a
DTEND;TZID=America/New_York:20191214T091500
DTSTART;TZID=America/New_York:20191214T071500
DTSTAMP;TZID=America/New_York:20191214T071500
LOCATION: Fairfax Ice Arena
SUMMARY;LANGUAGE=en-US: vs 
END:VEVENT
BEGIN:VEVENT
UID:21b61912878e1b20a104a2cde6881ee8
DTEND;TZID=America/New_York:20191229T102000
DTSTART;TZID=America/New_York:20191229T082000
DTSTAMP;TZID=America/New_York:20191229T082000
LOCATION: Fairfax Ice Arena
SUMMARY;LANGUAGE=en-US: vs 
END:VEVENT
BEGIN:VEVENT
UID:bf24d7a654ef8131949e6328d086e425
DTEND;TZID=America/New_York:20200112T004000
DTSTART;TZID=America/New_York:20200111T224000
DTSTAMP;TZID=America/New_York:20200111T224000
LOCATION: Fairfax Ice Arena
SUMMARY;LANGUAGE=en-US: vs 
END:VEVENT
BEGIN:VEVENT
UID:07fbf731305f2bca2a8c4f230ad3e510
DTEND;TZID=America/New_York:20200118T091500
DTSTART;TZID=America/New_York:20200118T071500
DTSTAMP;TZID=America/New_York:20200118T071500
LOCATION: Fairfax Ice Arena
SUMMARY;LANGUAGE=en-US: vs 
END:VEVENT
BEGIN:VEVENT
UID:602bdd57c12c2b3c3f1544988ffe0a89
DTEND;TZID=America/New_York:20200127T223500
DTSTART;TZID=America/New_York:20200127T203500
DTSTAMP;TZID=America/New_York:20200127T203500
LOCATION: Fairfax Ice Arena
SUMMARY;LANGUAGE=en-US: vs 
END:VEVENT
BEGIN:VEVENT
UID:642fc88fcd68fe2338b6d34dd79276e2
DTEND;TZID=America/New_York:20200203T223500
DTSTART;TZID=America/New_York:20200203T203500
DTSTAMP;TZID=America/New_York:20200203T203500
LOCATION: Fairfax Ice Arena
SUMMARY;LANGUAGE=en-US: vs 
END:VEVENT
BEGIN:VEVENT
UID:2daf4005522e8aa5049c512c92deaa17
DTEND;TZID=America/New_York:20200209T190000
DTSTART;TZID=America/New_York:20200209T170000
DTSTAMP;TZID=America/New_York:20200209T170000
LOCATION: Fairfax Ice Arena
SUMMARY;LANGUAGE=en-US: vs 
END:VEVENT
BEGIN:VEVENT
UID:fea6d31f4abfb20363eef23ff4f0e3f5
DTEND;TZID=America/New_York:20200222T204000
DTSTART;TZID=America/New_York:20200222T184000
DTSTAMP;TZID=America/New_York:20200222T184000
LOCATION: Fairfax Ice Arena
SUMMARY;LANGUAGE=en-US: vs 
END:VEVENT
BEGIN:VEVENT
UID:ad8ea789baf17c498123743a6c619962
DTEND;TZID=America/New_York:20200224T011500
DTSTART;TZID=America/New_York:20200223T231500
DTSTAMP;TZID=America/New_York:20200223T231500
LOCATION: Fairfax Ice Arena
SUMMARY;LANGUAGE=en-US: vs 
END:VEVENT
BEGIN:VEVENT
UID:16024f2655a5da3b84a751d6bb824633
DTEND;TZID=America/New_York:20200308T090000
DTSTART;TZID=America/New_York:20200308T070000
DTSTAMP;TZID=America/New_York:20200308T070000
LOCATION: Fairfax Ice Arena
SUMMARY;LANGUAGE=en-US: vs 
END:VEVENT
END:VCALENDAR
