BEGIN:VCALENDAR
VERSION:2.0
PRODID:-//Apple Inc.//Mac OS X 10.11.4//EN
CALSCALE:GREGORIAN
BEGIN:VEVENT
UID:c88c08de3c951f631ffbceb710c5f04d
DTEND;TZID=America/New_York:20191014T005000
DTSTART;TZID=America/New_York:20191013T225000
DTSTAMP;TZID=America/New_York:20191013T225000
LOCATION: Fairfax Ice Arena
SUMMARY;LANGUAGE=en-US: vs 
END:VEVENT
BEGIN:VEVENT
UID:b5eb74e6739dbf96b1d21165482681bd
DTEND;TZID=America/New_York:20191020T102000
DTSTART;TZID=America/New_York:20191020T082000
DTSTAMP;TZID=America/New_York:20191020T082000
LOCATION: Fairfax Ice Arena
SUMMARY;LANGUAGE=en-US: vs 
END:VEVENT
BEGIN:VEVENT
UID:2fdc9e47041b2fd622e9cc9b4a6b8ccc
DTEND;TZID=America/New_York:20191027T193000
DTSTART;TZID=America/New_York:20191027T173000
DTSTAMP;TZID=America/New_York:20191027T173000
LOCATION: Fairfax Ice Arena
SUMMARY;LANGUAGE=en-US: vs 
END:VEVENT
BEGIN:VEVENT
UID:2d7df9540b149ff6156388b3c3ee343f
DTEND;TZID=America/New_York:20191103T201500
DTSTART;TZID=America/New_York:20191103T181500
DTSTAMP;TZID=America/New_York:20191103T181500
LOCATION: Fairfax Ice Arena
SUMMARY;LANGUAGE=en-US: vs 
END:VEVENT
BEGIN:VEVENT
UID:ab5cee57dabd8298b66b393876e73e37
DTEND;TZID=America/New_York:20191111T011500
DTSTART;TZID=America/New_York:20191110T231500
DTSTAMP;TZID=America/New_York:20191110T231500
LOCATION: Fairfax Ice Arena
SUMMARY;LANGUAGE=en-US: vs 
END:VEVENT
BEGIN:VEVENT
UID:374913f15e16c6428c350fd1a76550fd
DTEND;TZID=America/New_York:20191117T224500
DTSTART;TZID=America/New_York:20191117T204500
DTSTAMP;TZID=America/New_York:20191117T204500
LOCATION: Fairfax Ice Arena
SUMMARY;LANGUAGE=en-US: vs 
END:VEVENT
BEGIN:VEVENT
UID:8dd4d4237d80434bcc7a1cc85d9f806f
DTEND;TZID=America/New_York:20191125T011500
DTSTART;TZID=America/New_York:20191124T231500
DTSTAMP;TZID=America/New_York:20191124T231500
LOCATION: Fairfax Ice Arena
SUMMARY;LANGUAGE=en-US: vs 
END:VEVENT
BEGIN:VEVENT
UID:89b28d9febc1707c8dcf51b80c8f7e79
DTEND;TZID=America/New_York:20191201T004000
DTSTART;TZID=America/New_York:20191130T224000
DTSTAMP;TZID=America/New_York:20191130T224000
LOCATION: Fairfax Ice Arena
SUMMARY;LANGUAGE=en-US: vs 
END:VEVENT
BEGIN:VEVENT
UID:0e76295cfb3041525be1fb75ff4bc684
DTEND;TZID=America/New_York:20191207T091500
DTSTART;TZID=America/New_York:20191207T071500
DTSTAMP;TZID=America/New_York:20191207T071500
LOCATION: Fairfax Ice Arena
SUMMARY;LANGUAGE=en-US: vs 
END:VEVENT
BEGIN:VEVENT
UID:3ba2bd8d72c948a405158655c01cf9b8
DTEND;TZID=America/New_York:20191215T224500
DTSTART;TZID=America/New_York:20191215T204500
DTSTAMP;TZID=America/New_York:20191215T204500
LOCATION: Fairfax Ice Arena
SUMMARY;LANGUAGE=en-US: vs 
END:VEVENT
BEGIN:VEVENT
UID:21b61912878e1b20a104a2cde6881ee8
DTEND;TZID=America/New_York:20191229T102000
DTSTART;TZID=America/New_York:20191229T082000
DTSTAMP;TZID=America/New_York:20191229T082000
LOCATION: Fairfax Ice Arena
SUMMARY;LANGUAGE=en-US: vs 
END:VEVENT
BEGIN:VEVENT
UID:5bf4ff483eb6c832053a2a562d028de5
DTEND;TZID=America/New_York:20200112T015500
DTSTART;TZID=America/New_York:20200111T235500
DTSTAMP;TZID=America/New_York:20200111T235500
LOCATION: Fairfax Ice Arena
SUMMARY;LANGUAGE=en-US: vs 
END:VEVENT
BEGIN:VEVENT
UID:eac76d9ef893b8888aa30c408fead5f7
DTEND;TZID=America/New_York:20200119T102000
DTSTART;TZID=America/New_York:20200119T082000
DTSTAMP;TZID=America/New_York:20200119T082000
LOCATION: Fairfax Ice Arena
SUMMARY;LANGUAGE=en-US: vs 
END:VEVENT
BEGIN:VEVENT
UID:b8e0e0eac76176a7ff98735a3378f022
DTEND;TZID=America/New_York:20200125T091500
DTSTART;TZID=America/New_York:20200125T071500
DTSTAMP;TZID=America/New_York:20200125T071500
LOCATION: Fairfax Ice Arena
SUMMARY;LANGUAGE=en-US: vs 
END:VEVENT
BEGIN:VEVENT
UID:4d27a852266ce4ce44495f4563ff6091
DTEND;TZID=America/New_York:20200201T192000
DTSTART;TZID=America/New_York:20200201T172000
DTSTAMP;TZID=America/New_York:20200201T172000
LOCATION: Fairfax Ice Arena
SUMMARY;LANGUAGE=en-US: vs 
END:VEVENT
BEGIN:VEVENT
UID:2daf4005522e8aa5049c512c92deaa17
DTEND;TZID=America/New_York:20200209T190000
DTSTART;TZID=America/New_York:20200209T170000
DTSTAMP;TZID=America/New_York:20200209T170000
LOCATION: Fairfax Ice Arena
SUMMARY;LANGUAGE=en-US: vs 
END:VEVENT
BEGIN:VEVENT
UID:5a91fceeb19bd0fbdd045365e029206f
DTEND;TZID=America/New_York:20200222T091500
DTSTART;TZID=America/New_York:20200222T071500
DTSTAMP;TZID=America/New_York:20200222T071500
LOCATION: Fairfax Ice Arena
SUMMARY;LANGUAGE=en-US: vs 
END:VEVENT
BEGIN:VEVENT
UID:1b4e7acfdd7299bba7dda18afc2973e9
DTEND;TZID=America/New_York:20200224T000000
DTSTART;TZID=America/New_York:20200223T220000
DTSTAMP;TZID=America/New_York:20200223T220000
LOCATION: Fairfax Ice Arena
SUMMARY;LANGUAGE=en-US: vs 
END:VEVENT
BEGIN:VEVENT
UID:5807faca289e2d2768b853f231effdab
DTEND;TZID=America/New_York:20200308T102000
DTSTART;TZID=America/New_York:20200308T082000
DTSTAMP;TZID=America/New_York:20200308T082000
LOCATION: Fairfax Ice Arena
SUMMARY;LANGUAGE=en-US: vs 
END:VEVENT
BEGIN:VEVENT
UID:484baf7889363e49cd20c13e8971d93e
DTEND;TZID=America/New_York:20200314T192000
DTSTART;TZID=America/New_York:20200314T172000
DTSTAMP;TZID=America/New_York:20200314T172000
LOCATION: Fairfax Ice Arena
SUMMARY;LANGUAGE=en-US: vs 
END:VEVENT
END:VCALENDAR
